BEGIN:VCALENDAR
VERSION:2.0
PRODID:-//EUBC | EUROPEAN BOXING CONFEDERATION - ECPv6.0.12//NONSGML v1.0//EN
CALSCALE:GREGORIAN
METHOD:PUBLISH
X-WR-CALNAME:EUBC | EUROPEAN BOXING CONFEDERATION
X-ORIGINAL-URL:https://eubcboxing.org
X-WR-CALDESC:Events for EUBC | EUROPEAN BOXING CONFEDERATION
REFRESH-INTERVAL;VALUE=DURATION:PT1H
X-Robots-Tag:noindex
X-PUBLISHED-TTL:PT1H
BEGIN:VTIMEZONE
TZID:UTC
BEGIN:STANDARD
TZOFFSETFROM:+0000
TZOFFSETTO:+0000
TZNAME:UTC
DTSTART:20260101T000000
END:STANDARD
END:VTIMEZONE
BEGIN:VEVENT
DTSTART;VALUE=DATE:20260215
DTEND;VALUE=DATE:20260223
DTSTAMP:20260421T220252
CREATED:20251121T090802Z
LAST-MODIFIED:20251121T091729Z
UID:55119-1771113600-1771804799@eubcboxing.org
SUMMARY:International Boxing Tournament «Dedicated to the Soviet and Russian Servicemen Who Fell in the Line of Duty»
DESCRIPTION:Boys and girls 17-18
URL:https://eubcboxing.org/event/international-boxing-tournament-dedicated-to-the-soviet-and-russian-servicemen-who-fell-in-the-line-of-duty/
LOCATION:Khabarovsk Krai\, Komsomolsk-on-Amur\, Russian Federation
CATEGORIES:International Tournaments
END:VEVENT
END:VCALENDAR