BEGIN:VCALENDAR
VERSION:2.0
PRODID:-//EUBC | EUROPEAN BOXING CONFEDERATION - ECPv6.0.12//NONSGML v1.0//EN
CALSCALE:GREGORIAN
METHOD:PUBLISH
X-ORIGINAL-URL:https://eubcboxing.org
X-WR-CALDESC:Events for EUBC | EUROPEAN BOXING CONFEDERATION
REFRESH-INTERVAL;VALUE=DURATION:PT1H
X-Robots-Tag:noindex
X-PUBLISHED-TTL:PT1H
BEGIN:VTIMEZONE
TZID:UTC
BEGIN:STANDARD
TZOFFSETFROM:+0000
TZOFFSETTO:+0000
TZNAME:UTC
DTSTART:20250101T000000
END:STANDARD
END:VTIMEZONE
BEGIN:VEVENT
DTSTART;VALUE=DATE:20250414
DTEND;VALUE=DATE:20250421
DTSTAMP:20260423T201931
CREATED:20241229T070233Z
LAST-MODIFIED:20241229T070233Z
UID:54548-1744588800-1745193599@eubcboxing.org
SUMMARY:International Boxing Tournament Erevan Major Cup
DESCRIPTION:19-40\, men`s. 13 weight categories
URL:https://eubcboxing.org/event/international-boxing-tournament-erevan-major-cup/
LOCATION:Yerevan\, Armenia\, Yerevan\, Armenia
CATEGORIES:International Tournaments
END:VEVENT
BEGIN:VEVENT
DTSTART;VALUE=DATE:20250414
DTEND;VALUE=DATE:20250421
DTSTAMP:20260423T201931
CREATED:20241229T070347Z
LAST-MODIFIED:20250204T074019Z
UID:54550-1744588800-1745193599@eubcboxing.org
SUMMARY:Korotkov Memorial Tournament
DESCRIPTION:Elite men\, Elite Women
URL:https://eubcboxing.org/event/korotkov-memorial-tournament-2/
LOCATION:Khabarovsk\, Russia\, Russian Federation
CATEGORIES:International Tournaments
END:VEVENT
BEGIN:VEVENT
DTSTART;VALUE=DATE:20250417
DTEND;VALUE=DATE:20250422
DTSTAMP:20260423T201931
CREATED:20250206T192413Z
LAST-MODIFIED:20250217T125944Z
UID:54638-1744848000-1745279999@eubcboxing.org
SUMMARY:International Viking Boxing Cup 2025
DESCRIPTION:REAL
URL:https://eubcboxing.org/event/international-viking-boxing-cup-2025/
LOCATION:Barthelmesaurach\, Germany\, Barthelmesaurach\, Germany
CATEGORIES:International Tournaments
END:VEVENT
BEGIN:VEVENT
DTSTART;VALUE=DATE:20250428
DTEND;VALUE=DATE:20250506
DTSTAMP:20260423T201931
CREATED:20250228T200436Z
LAST-MODIFIED:20250228T200436Z
UID:54716-1745798400-1746489599@eubcboxing.org
SUMMARY:WORLD JUNIORS NATIONS’ CUP
DESCRIPTION:INVITATION – 9 th WORLD JUNIORS NATIONS CUP – 20_250228_200920 (1)
URL:https://eubcboxing.org/event/world-juniors-nations-cup/
LOCATION:SERBIA – VRBAS\, VRBAS\, Serbia
CATEGORIES:International Tournaments
ORGANIZER;CN="BOXING%20FEDERATION%20OF%20SERBIA":MAILTO:box.serbia@gmail.com
END:VEVENT
END:VCALENDAR