BEGIN:VCALENDAR
VERSION:2.0
PRODID:-//EUBC | EUROPEAN BOXING CONFEDERATION - ECPv6.0.12//NONSGML v1.0//EN
CALSCALE:GREGORIAN
METHOD:PUBLISH
X-ORIGINAL-URL:https://eubcboxing.org
X-WR-CALDESC:Events for EUBC | EUROPEAN BOXING CONFEDERATION
REFRESH-INTERVAL;VALUE=DURATION:PT1H
X-Robots-Tag:noindex
X-PUBLISHED-TTL:PT1H
BEGIN:VTIMEZONE
TZID:UTC
BEGIN:STANDARD
TZOFFSETFROM:+0000
TZOFFSETTO:+0000
TZNAME:UTC
DTSTART:20240101T000000
END:STANDARD
END:VTIMEZONE
BEGIN:VEVENT
DTSTART;VALUE=DATE:20240114
DTEND;VALUE=DATE:20240123
DTSTAMP:20260422T091010
CREATED:20231210T101141Z
LAST-MODIFIED:20240122T202928Z
UID:52386-1705190400-1705967999@eubcboxing.org
SUMMARY:13th NATIONS CUP - Women
DESCRIPTION:Women – School\,Juniors\,Youth & Elite \n  \nRESULTS \nDay 6 \nDay 5 \nDay 4  \nDay 3  \nDay 2 \nDay 1  \n  \nSCHEDULE \nDay 6 \nDay 5  \nDay 4  \nDay 3  \nDay 2  \nDay 1  \n  \n\n  \nDRAWS \n  \n\n  \nCountries \nBoxers By Cat \n  \n\n  \n  \nINVITATION – 13 th NATIONS CUP WOMEN – 2024 SOMBOR – SERBIA 13 th Nations Cup Women – 2024 Serbia – Entry form preliminary (3) 13-th-Nations-Cup-women-2024-Serbia-Entry-form-final
URL:https://eubcboxing.org/event/13th-nations-cup-women/
LOCATION:Sombor\, Serbia
CATEGORIES:International Tournaments
ORGANIZER;CN="BOXING%20FEDERATION%20OF%20SERBIA":MAILTO:box.serbia@gmail.com
END:VEVENT
BEGIN:VEVENT
DTSTART;VALUE=DATE:20240115
DTEND;VALUE=DATE:20240122
DTSTAMP:20260422T091010
CREATED:20231210T101318Z
LAST-MODIFIED:20240120T222559Z
UID:52388-1705276800-1705881599@eubcboxing.org
SUMMARY:Bocskai - Elite Men & Women
DESCRIPTION:Elite Men\, Elite Women \n  \nFinal Results MEN \nFinal Results WOMEN \n  \nRESULTS \nDay 4 Ring B \nDay 4 Ring A \nDay 3 Ring B \nDay 3 Ring A \nDay 2 Ring B \nDay 2 Ring A \nDay 1 Ring A \nDay 1 Ring B \n  \nSCHEDULE \nFinal Schedule MEN \nDay 4  \nDay 3 \nDay 2 \nDay 1 \n  \n\n  \n  \nDraws MEN \nDraws WOMEN \n  \nEntry by Weight \nEntry by team \nCompetition
URL:https://eubcboxing.org/event/bocskai-elite-men-women/
LOCATION:Hungary
CATEGORIES:International Tournaments
ORGANIZER;CN="Hungarian%20Boxing%20Association":MAILTO:hungarian@boxing.hu
END:VEVENT
BEGIN:VEVENT
DTSTART;VALUE=DATE:20240129
DTEND;VALUE=DATE:20240205
DTSTAMP:20260422T091010
CREATED:20231210T101612Z
LAST-MODIFIED:20240204T075636Z
UID:52391-1706486400-1707091199@eubcboxing.org
SUMMARY:BOXAM International Tournament 2024
DESCRIPTION:Elite Men\, Elite Women \n  \nMedallists by weight category \nRanking by team \nMedal Standings \nTop List \n  \nFinal Draw Sheets Women categories \nFinal Draw Sheets Men categories \n  \nRESULTS \nDay 5 Ring B \nDay 5 Ring A \nDay4 Ring B \nDay4 Ring A \nDay 3 Ring B \nDay 3 Ring A \nDay 2 Ring B \nDay 2 Ring A \nDay 1 Ring B \nDay 1 Ring A \n  \nSCHEDULE \nDay 5 – Session 9 and 10 \nDay 4- Session 7 and 8 \nDay 3- Session 5 and 6 \nDay 2- Session 3 and 4 \nDay 1 – Session 1 and 2 \n  \n  \n  \nMen Draw Sheets \nWomen Draw Sheets
URL:https://eubcboxing.org/event/boxam-international-tournament-2024/
LOCATION:Spain\, La Nucía\, La Nucía\, Spain
CATEGORIES:International Tournaments
ORGANIZER;CN="Spanish%20Boxing%20Federation":MAILTO:feboxeo@feboxeo.com
END:VEVENT
END:VCALENDAR