BEGIN:VCALENDAR
VERSION:2.0
PRODID:-//EUBC | EUROPEAN BOXING CONFEDERATION - ECPv6.0.12//NONSGML v1.0//EN
CALSCALE:GREGORIAN
METHOD:PUBLISH
X-ORIGINAL-URL:https://eubcboxing.org
X-WR-CALDESC:Events for EUBC | EUROPEAN BOXING CONFEDERATION
REFRESH-INTERVAL;VALUE=DURATION:PT1H
X-Robots-Tag:noindex
X-PUBLISHED-TTL:PT1H
BEGIN:VTIMEZONE
TZID:UTC
BEGIN:STANDARD
TZOFFSETFROM:+0000
TZOFFSETTO:+0000
TZNAME:UTC
DTSTART:20230101T000000
END:STANDARD
END:VTIMEZONE
BEGIN:VEVENT
DTSTART;VALUE=DATE:20231205
DTEND;VALUE=DATE:20231211
DTSTAMP:20260422T091046
CREATED:20230424T000014Z
LAST-MODIFIED:20231213T072706Z
UID:50227-1701734400-1702252799@eubcboxing.org
SUMMARY:GRAND PRIX – ZAGREB (Elite - Men and Women)
DESCRIPTION:RESULTS \n09.12.2023 08.12.2023 \n07.12.202306.12.2023\nSCHEDULE \n09.12.2023 \n07.12.2023\n06.12.2023 Entry List by Weight Categor\nNumber of Entries by Team DRAW SHEETS\nV. Grand Prix Zagreb 2023 INFO GRAND PRIX ZAGREB Tournament 2023. ENTRY FORM Invitation letter for V. Zagreb Grand Prix
URL:https://eubcboxing.org/event/grand-prix-zagreb-5/
LOCATION:Zagreb\, Croatia\, Croatia (Local Name: Hrvatska)
CATEGORIES:International Tournaments
ORGANIZER;CN="Croatian%20Boxing%20Federation":MAILTO:boks.natjecanja@gmail.com
END:VEVENT
BEGIN:VEVENT
DTSTART;VALUE=DATE:20231218
DTEND;VALUE=DATE:20231224
DTSTAMP:20260422T091046
CREATED:20230424T003106Z
LAST-MODIFIED:20231223T191845Z
UID:50249-1702857600-1703375999@eubcboxing.org
SUMMARY:Abbas Aghalarov Cup-2023
DESCRIPTION:Medal standings \nRanking by team \nFinals Results \nMedalists \n  \nRESULTS \nSESSION 5 \nSESSION 4 \nSESSION 3 \nSESSION 2 \nSESSION 1 \n  \nSCHEDULE \nSESSION 5 \nSESSION 4 \nSESSION 3 \nSESSION 2 \nSESSION 1 \n  \n\n  \nENTRY LIST BY TEAM \nDraw Sheets \nCompetition Schedule \nReferees and Judges \n  \n\n  \nentry_form_A_Aghalarov Cup-2023_AZERBAIJAN Invitattion_Aghalarov Cup-2023
URL:https://eubcboxing.org/event/abbas-aghalarov-cup-2023-2/
LOCATION:Baku\, Azerbaijan\, Azerbaijan
CATEGORIES:International Tournaments
END:VEVENT
END:VCALENDAR