BEGIN:VCALENDAR
VERSION:2.0
PRODID:-//EUBC | EUROPEAN BOXING CONFEDERATION - ECPv6.0.12//NONSGML v1.0//EN
CALSCALE:GREGORIAN
METHOD:PUBLISH
X-ORIGINAL-URL:https://eubcboxing.org
X-WR-CALDESC:Events for EUBC | EUROPEAN BOXING CONFEDERATION
REFRESH-INTERVAL;VALUE=DURATION:PT1H
X-Robots-Tag:noindex
X-PUBLISHED-TTL:PT1H
BEGIN:VTIMEZONE
TZID:UTC
BEGIN:STANDARD
TZOFFSETFROM:+0000
TZOFFSETTO:+0000
TZNAME:UTC
DTSTART:20230101T000000
END:STANDARD
END:VTIMEZONE
BEGIN:VEVENT
DTSTART;VALUE=DATE:20230605
DTEND;VALUE=DATE:20230612
DTSTAMP:20260421T171540
CREATED:20230423T232518Z
LAST-MODIFIED:20230611T054258Z
UID:50186-1685923200-1686527999@eubcboxing.org
SUMMARY:72th Bornemissza Gergely International Boxing Tournament
DESCRIPTION:DAILY RESULTS \nFinal Results YOUTH \nFinal Results JUNIOR \nResults Day 3 Ring B YOUTH \nResults Day 3 Ring A YOUTH \nResults Day 3 Ring B JUNIOR \nResults Day 3 Ring A JUNIOR \nResults Day 2 Ring B YOUTH \nResults Day 2 Ring A YOUTH \nResults Day 2 Ring A JUNIOR \nResults Day 2 Ring B JUNIOR \nResults Day 1 Ring A YOUTH \nResults Day 1 Ring B YOUTH \nResults Day 1 Ring A JUNIOR \nResults Day 1 Ring B JUNIOR \nDAILY SCHEDULE \nFinal Schedule YOUTH \nFinal Schedule JUNIOR \nSchedule day 3 YOUTH  \nSchedule day 3 JUNIOR \nSchedule day 2 JUNIOR \nSchedule day 2 YOUTH \nSchedule Day 1 YOUTH \nSchedule Day 1 JUNIOR \nDRAW SHEETS \nDRAW SHEETS JUNIOR MEN \nDRAW SHEETS JUNIOR WOMEN \nDRAW SHEETS YOUTH MEN \nDRAW SHEETS YOUTH WOMEN \nENTRY LIST \nEntry list by team JUNIOR \nEntry List by team YOUTH \n  \n\n  \nInvitation-Bornemissza-Junior-and-Youth-BoxingTournament-2023
URL:https://eubcboxing.org/event/72th-bornemissza-gergely-international-boxing-tournament-2/
LOCATION:Eger\, Hungary\, Hungary
CATEGORIES:International Tournaments
ORGANIZER;CN="Hungarian%20Boxing%20Association":MAILTO:hungarian@boxing.hu
END:VEVENT
BEGIN:VEVENT
DTSTART;VALUE=DATE:20230612
DTEND;VALUE=DATE:20230617
DTSTAMP:20260421T171540
CREATED:20230423T232920Z
LAST-MODIFIED:20230423T232920Z
UID:50189-1686528000-1686959999@eubcboxing.org
SUMMARY:International Boxing Tournament named after V.Batvinnik
DESCRIPTION:
URL:https://eubcboxing.org/event/international-boxing-tournament-named-after-v-batvinnik-2/
LOCATION:Minsk\, Belarus\, Belarus
CATEGORIES:International Tournaments
END:VEVENT
BEGIN:VEVENT
DTSTART;VALUE=DATE:20230621
DTEND;VALUE=DATE:20230703
DTSTAMP:20260421T171540
CREATED:20230423T233042Z
LAST-MODIFIED:20230426T101954Z
UID:50191-1687305600-1688342399@eubcboxing.org
SUMMARY:III European Games
DESCRIPTION:
URL:https://eubcboxing.org/event/iii-european-games-2/
LOCATION:Krakow\, Poland\, Poland
CATEGORIES:Multisport
END:VEVENT
END:VCALENDAR