BEGIN:VCALENDAR
VERSION:2.0
PRODID:-//EUBC | EUROPEAN BOXING CONFEDERATION - ECPv6.0.12//NONSGML v1.0//EN
CALSCALE:GREGORIAN
METHOD:PUBLISH
X-ORIGINAL-URL:https://eubcboxing.org
X-WR-CALDESC:Events for EUBC | EUROPEAN BOXING CONFEDERATION
REFRESH-INTERVAL;VALUE=DURATION:PT1H
X-Robots-Tag:noindex
X-PUBLISHED-TTL:PT1H
BEGIN:VTIMEZONE
TZID:UTC
BEGIN:STANDARD
TZOFFSETFROM:+0000
TZOFFSETTO:+0000
TZNAME:UTC
DTSTART:20230101T000000
END:STANDARD
END:VTIMEZONE
BEGIN:VEVENT
DTSTART;VALUE=DATE:20230423
DTEND;VALUE=DATE:20230505
DTSTAMP:20260421T220352
CREATED:20230422T132049Z
LAST-MODIFIED:20230504T172757Z
UID:50076-1682208000-1683244799@eubcboxing.org
SUMMARY:EUBC Youth European Boxing Championships
DESCRIPTION:Ranking by Team \nTop List \nMedallists by Weight Category \nFinals Results \nReferees and Judges \nDAILY RESULTS \nDaily Results 03.05.2023 \nDaily Results 01.05.2023 \nDaily Results 30.04.2023 \nDaily Results 29.04.2023 \nDaily Results 28.04.2023 \nDaily Results 27.04.2023 \nDaily Results 26.04.2023 \nDaily Results 25.04.2023 \nDaily Results 24.04.2023 \n  \nDAILY SCHEDULE \nDaily Schedule 03.05.2023 \nDaily Schedule 01.05.2023 \nDaily Schedule 30.04.2023 \nDaily Schedule 29.04.2023 \nDaily Schedule 28.04.2023 \nDaily Schedule 27.04.2023 \nDaily Schedule 26.04.2023 \nDaily Schedule 25.04.2023 \n  \nDRAW SHEETS \nWomen Draw Sheets \nMen Draw Sheets \n——————————————————————— \nEntry List by Team \nEntry List by weight category \nNumber of Entries by team\, Competition Schedule \n——————————————————————— \n1. Sport Entries Check info \n2. Technical Meeting and Draw Info \n3. Official Contacts Info \n20230413-Team-Delegation-Handbook-V3-Youth-MW-Championships-Yerevan-2023
URL:https://eubcboxing.org/event/eubc-youth-european-boxing-championships-4/
LOCATION:Armenia\, Yerevan\, Armenia
CATEGORIES:EUBC Championships
END:VEVENT
BEGIN:VEVENT
DTSTART;VALUE=DATE:20230424
DTEND;VALUE=DATE:20230502
DTSTAMP:20260421T220352
CREATED:20230423T223300Z
LAST-MODIFIED:20230423T223703Z
UID:50125-1682294400-1682985599@eubcboxing.org
SUMMARY:I.Cesme Tournament (Elite Women)
DESCRIPTION:1st-International-Tourmanent-Cesme-Registration-Form 1st-International-Boxing-Tournament-Cesme-Travel-Details-Form 1st-Cesme-International-Boxing-Tournament-Invitation 1st-International-Boxing-Tournament-Cesme
URL:https://eubcboxing.org/event/i-cesme-tournament-elite-women-2/
LOCATION:Cesme\, İzmir\, Turkey
CATEGORIES:International Tournaments
END:VEVENT
BEGIN:VEVENT
DTSTART;VALUE=DATE:20230501
DTEND;VALUE=DATE:20230506
DTSTAMP:20260421T220352
CREATED:20230423T224335Z
LAST-MODIFIED:20230423T224335Z
UID:50137-1682899200-1683331199@eubcboxing.org
SUMMARY:International Boxing Tournament devoted to the Victory Day
DESCRIPTION:
URL:https://eubcboxing.org/event/international-boxing-tournament-devoted-to-the-victory-day-2/
LOCATION:Gomel\, Belarus
CATEGORIES:International Tournaments
END:VEVENT
BEGIN:VEVENT
DTSTART;VALUE=DATE:20230503
DTEND;VALUE=DATE:20230509
DTSTAMP:20260421T220352
CREATED:20230423T224530Z
LAST-MODIFIED:20230423T224542Z
UID:50139-1683072000-1683590399@eubcboxing.org
SUMMARY:53rd International Elite Men ́s and Women ́s Boxing Tournament ”GRAND PRIX
DESCRIPTION:GRAND-PRIX-2023-INVITATION GRAND-PRIX-Tournament-2023-Preliminary-form
URL:https://eubcboxing.org/event/53rd-international-elite-men-s-and-women-s-boxing-tournament-grand-prix-2/
LOCATION:Usti nad Labem\, Czech Republic
CATEGORIES:International Tournaments
END:VEVENT
BEGIN:VEVENT
DTSTART;VALUE=DATE:20230515
DTEND;VALUE=DATE:20230522
DTSTAMP:20260421T220352
CREATED:20230423T224803Z
LAST-MODIFIED:20230521T060403Z
UID:50143-1684108800-1684713599@eubcboxing.org
SUMMARY:BOXAM International Tournament 2023 for Junior\, Youth and U22
DESCRIPTION:Top List \nMedal Standings \nMedallists by Weight Category \nFinals Results \nDAILY RESULTS \nSession 5 Results \nSession 4 Results \nSession 3 Results \nSession 2 Results \nSession 1 Results  \nDAILY SCHEDULE \nSession 5  Schedule -_U22_finals \nSession 4 Schedule -_Youth finals \nSession 3 Schedule – Junior finals \nSession 2 Schedule – Wednesday \nSession 1 Schedule – Tuesday \n———————————————————————— \nDraw sheets Boxam J-Y-U22 2023 \nCompetition Schedule Boxam 2023.xlsx \nEntry list by team Boxam J-Y-U22 2023 \nEntry list by weight category Boxam J-Y-U22 2023 \n————————————————————————- \nEUBC-Approved-competition-form-BOXAM-YOUTHJUNIORU22-2023Accommodation-and-flight-details-BOXAM-2023-Junior-Youth-U22-La-Nucia Preliminar-form-BOXAM-2023-Junior-Youth-U22-La-Nucia Final-form-BOXAM-2023-Junior-Youth-U22-La-Nucia-1 Invitation_INTERNATIONAL-BOXING-TOURNAMENT-BOXAM_JUNIOR_YOUTH_U22_MAY_2023-v2
URL:https://eubcboxing.org/event/boxam-international-tournament-2023-for-junior-youth-and-u22/
LOCATION:Alicante\, Spain
CATEGORIES:International Tournaments
ORGANIZER;CN="Spanish%20Boxing%20Federation":MAILTO:feboxeo@feboxeo.com
END:VEVENT
BEGIN:VEVENT
DTSTART;VALUE=DATE:20230519
DTEND;VALUE=DATE:20230523
DTSTAMP:20260421T220352
CREATED:20230423T225357Z
LAST-MODIFIED:20230423T230742Z
UID:50151-1684454400-1684799999@eubcboxing.org
SUMMARY:International Boxing Tournament "Lah Nimani"
DESCRIPTION:INVITATIONFtesa-Lah-Nimani-2023  INVITATIONFtesa-Lah-Nimani-2023-1
URL:https://eubcboxing.org/event/international-boxing-tournament-lah-nimani-5/
LOCATION:Pristina\, Kosovo
CATEGORIES:International Tournaments
ORGANIZER;CN="Boxing%20Federation%20of%20Kosovo":MAILTO:fboxk@hotmail.com
END:VEVENT
BEGIN:VEVENT
DTSTART;VALUE=DATE:20230521
DTEND;VALUE=DATE:20230528
DTSTAMP:20260421T220352
CREATED:20230423T230944Z
LAST-MODIFIED:20230528T002343Z
UID:50157-1684627200-1685231999@eubcboxing.org
SUMMARY:7 th JUNIORS NATIONS CUP – 2023 VRBAS SERBIA
DESCRIPTION:Ranking by Team \nFinals Results and Medals \nMedalists by Weight Category \nMedal Standings \nDAILY RESULTS \nFinals Results \n4th day Results \n3rd day Results \n2nd day Results \n1st day Results \nDAILY SCHEDULE \nFinals Daily Schedule \n4th day Daily Schedule \n3rd day Daily Schedule \n1st day Daily Schedule \n2nd day Daily Schedule \n  \n\n  \nDraw Sheets \nJudges Statistics Summary \nNumber of Entries by Team \nCompetition Plan \nEntry List by Weight Category \nEntry List by Team \n  \n  \n\n  \nINVITATION-7-th-JUNIORS-NATIONS-CUP-2023-VRBAS-SERBIA Final-Entry-Form-7-th-Junior-Nations-Cup-2023-VRBAS-SERBIA1 Preliminary-Entry-Form-7-th-Junior-Nations-Cup-2023-VRBAS-SERBIA
URL:https://eubcboxing.org/event/7-th-juniors-nations-cup-2023-vrbas-serbia/
LOCATION:Vrbas\, Serbia
CATEGORIES:International Tournaments
ORGANIZER;CN="Boxing%20Federation%20of%20Serbia":MAILTO:box.serbia@gmail.com
END:VEVENT
BEGIN:VEVENT
DTSTART;VALUE=DATE:20230522
DTEND;VALUE=DATE:20230527
DTSTAMP:20260421T220352
CREATED:20230423T231200Z
LAST-MODIFIED:20230526T203440Z
UID:50162-1684713600-1685145599@eubcboxing.org
SUMMARY:XXXVIII Feliks Stamm International Boxing Tournament
DESCRIPTION:DAILY RESULTS \nSession 16 \nSession 15 \nSession 14 \nSession 13 \nSession 12 \nSession 11 \nSession 10 \nSession 9 \nSession 8 \nSession 7 \nSession 6 \nSession 5 \nSession 4 \nSession 3 \nSession 1\, Session 2 \nDAILY SCHEDULE \nFinals schedule 26.05.2023 \nSchedule 25.05.2023 \nSchedule 24.05.2023  \nSchedule 23.05.2023 \n  \n\n  \nCompetition schedule \nMen draw sheets \nWomen draw sheets \nStamm-2023-fin Stamm-Application-form-logo
URL:https://eubcboxing.org/event/xxxviii-feliks-stamm-international-boxing-tournament/
LOCATION:Pułtusk\, Pułtusk\, Poland
CATEGORIES:International Tournaments
END:VEVENT
BEGIN:VEVENT
DTSTART;VALUE=DATE:20230522
DTEND;VALUE=DATE:20230527
DTSTAMP:20260421T220352
CREATED:20230423T231349Z
LAST-MODIFIED:20230423T231349Z
UID:50167-1684713600-1685145599@eubcboxing.org
SUMMARY:Open regional Boxing Tournament in memory of Absolute champion of the USSR A. Yukov
DESCRIPTION:
URL:https://eubcboxing.org/event/open-regional-boxing-tournament-in-memory-of-absolute-champion-of-the-ussr-a-yukov-3/
LOCATION:Gomel\, Belarus
CATEGORIES:International Tournaments
END:VEVENT
BEGIN:VEVENT
DTSTART;VALUE=DATE:20230522
DTEND;VALUE=DATE:20230529
DTSTAMP:20260421T220352
CREATED:20230423T231528Z
LAST-MODIFIED:20230528T012459Z
UID:50169-1684713600-1685318399@eubcboxing.org
SUMMARY:International Boxing Tournament «Konstantin Korotkov Memorial»
DESCRIPTION:DAILY RESULTS \n27.05.23 – Session 7 – Results \n27.05.23 – Session 6  Results \n26.05.23 – Session 5 Results \n25.05.23 – Session 4 Results \n25.05.23 – Session 3 Results \n24.05.23 – Session 2 Results \n23.05.23 – Session 1 Results  \nDAILY SCHEDULE \n27.05.23 – Session 6 & 7 – Daily Schedule \n26.05.23 – Session 5 – Daily Schedule \n25.05.23 – Session 3 – Daily Schedule  \n24.05.2023 – Session 2 – Daily Schedule \n23.05.23 – Session 1 – Daily Schedule \n——————————————————————— \nDraw Sheet  \nEntry List by Weight Category \nEntry List by Team  \nNumber of Entries by Team \nCompetition Scedule  \n 
URL:https://eubcboxing.org/event/international-boxing-tournament-konstantin-korotkov-memorial-4/
LOCATION:Khabarovsk Russia
CATEGORIES:International Tournaments
END:VEVENT
END:VCALENDAR