BEGIN:VCALENDAR
VERSION:2.0
PRODID:-//EUBC | EUROPEAN BOXING CONFEDERATION - ECPv6.0.12//NONSGML v1.0//EN
CALSCALE:GREGORIAN
METHOD:PUBLISH
X-WR-CALNAME:EUBC | EUROPEAN BOXING CONFEDERATION
X-ORIGINAL-URL:https://eubcboxing.org
X-WR-CALDESC:Events for EUBC | EUROPEAN BOXING CONFEDERATION
REFRESH-INTERVAL;VALUE=DURATION:PT1H
X-Robots-Tag:noindex
X-PUBLISHED-TTL:PT1H
BEGIN:VTIMEZONE
TZID:UTC
BEGIN:STANDARD
TZOFFSETFROM:+0000
TZOFFSETTO:+0000
TZNAME:UTC
DTSTART:20230101T000000
END:STANDARD
END:VTIMEZONE
BEGIN:VEVENT
DTSTART;VALUE=DATE:20230301
DTEND;VALUE=DATE:20230306
DTSTAMP:20260422T013029
CREATED:20230427T220823Z
LAST-MODIFIED:20230427T220823Z
UID:50553-1677628800-1678060799@eubcboxing.org
SUMMARY:XVIIIth International Danas Pozniakas Youth Boxing Tournament
DESCRIPTION:Medalist-By-Weight-Category Daily-Results-Pozniakas Daily-Schedule-Pozniakas Draw-Sheets-Pozniakas Competition-Schedule (1) Entry-Form-Pozniakas Invitation-Pozniakas-2023
URL:https://eubcboxing.org/event/xviiith-international-danas-pozniakas-youth-boxing-tournament-2/
LOCATION:Vilnius\, Lithuania\, Lithuania
CATEGORIES:International Tournaments
END:VEVENT
BEGIN:VEVENT
DTSTART;VALUE=DATE:20230308
DTEND;VALUE=DATE:20230314
DTSTAMP:20260422T013029
CREATED:20230427T220636Z
LAST-MODIFIED:20230427T220636Z
UID:50541-1678233600-1678751999@eubcboxing.org
SUMMARY:4th Riga Ladies Boxing Cup 2023
DESCRIPTION:Medallists-by-wight-category Entry-list-by-wieght-category Medal-standings Draw-Riga-Ladies-Boxing-Cup Daily-Results-10-12th-March Daily-Schedule-10-12th-March Draw-Sheets (1) INVITATION-4th-RLBC-2023
URL:https://eubcboxing.org/event/4th-riga-ladies-boxing-cup-2023-2/
LOCATION:Riga secondary school HANZAS\, Grostonas iela 5\, Riga\, Latvia
CATEGORIES:International Tournaments
END:VEVENT
BEGIN:VEVENT
DTSTART;VALUE=DATE:20230313
DTEND;VALUE=DATE:20230321
DTSTAMP:20260422T013029
CREATED:20230427T214628Z
LAST-MODIFIED:20230427T214628Z
UID:50532-1678665600-1679356799@eubcboxing.org
SUMMARY:Youth World Boxing Cup “Adriatic Pearl”
DESCRIPTION:Bulletin-World-Boxing-Cup-Budva-2023 Daily-Results-14-19th-March Daily-Schedule-14-19th-March Competition-plan-new Draw-Sheets-Youth-Worls-Boxing-Cup Entry-List-Youth-World-Boxing-Cup Youth_World_Boxing_Cup_Budva_2023-1
URL:https://eubcboxing.org/event/youth-world-boxing-cup-adriatic-pearl-2/
LOCATION:Budva\, Montenegro\, Montenegro
CATEGORIES:International Tournaments
ORGANIZER;CN="THE%20BOXING%20ASSOCIATION%20OF%20MONTENEGRO":MAILTO:bokserskisavezmne@gmail.com
END:VEVENT
BEGIN:VEVENT
DTSTART;VALUE=DATE:20230327
DTEND;VALUE=DATE:20230402
DTSTAMP:20260422T013029
CREATED:20230427T210936Z
LAST-MODIFIED:20230427T212152Z
UID:50524-1679875200-1680393599@eubcboxing.org
SUMMARY:PRESIDENT HEYDAR ALIYEV CUP-2023 (Junior Boys)
DESCRIPTION:Competition-Schedule C32A__ALL.CP_ Baku-Daily-Schedule-28.03-01.04 Baku-Daily-Results-28.03-01-04.2023 Baku-Draw-Sheets-Medalists PRESIDENT-HEYDAR-ALIYEV-CUP-2023-Junior-Boys
URL:https://eubcboxing.org/event/president-heydar-aliyev-cup-2023-junior-boys-2/
LOCATION:Baku\, Azerbaijan\, Azerbaijan
CATEGORIES:International Tournaments
END:VEVENT
BEGIN:VEVENT
DTSTART;VALUE=DATE:20230328
DTEND;VALUE=DATE:20230404
DTSTAMP:20260422T013029
CREATED:20230427T205900Z
LAST-MODIFIED:20230427T205900Z
UID:50514-1679961600-1680566399@eubcboxing.org
SUMMARY:60th Belgrade Winner Boxing Tournament
DESCRIPTION:Bulletin-60th-Belgrade-Winner Bulletin-6th-Greatest-Open Belgrade-All-Daily-Results Belgrade-Daily-Schedule-29.03-02.04.2023 Competition-Plan Draw-Scheets Entry-list (1) FINAL-INVITATION-BELGRADE-WINNER1
URL:https://eubcboxing.org/event/60th-belgrade-winner-boxing-tournament-2/
LOCATION:Belgrade\, Serbia
CATEGORIES:International Tournaments
ORGANIZER;CN="BOXING%20FEDERATION%20OF%20SERBIA%20Serbia%2C%20Belgrade%2C%20Terazije%2045":MAILTO:box.serbia@gmail.com
END:VEVENT
BEGIN:VEVENT
DTSTART;VALUE=DATE:20230329
DTEND;VALUE=DATE:20230402
DTSTAMP:20260422T013029
CREATED:20230427T205621Z
LAST-MODIFIED:20230427T205621Z
UID:50506-1680048000-1680393599@eubcboxing.org
SUMMARY:XXVIIth International A. Šocikas Boxing Tournament
DESCRIPTION:Boxing2023-Algirdas-Socikas-Tournament-Medallists Boxing2023-Algirdas-Socikas-Tournament-Rankings-by-Teams Socikas-All-Daily-Results Socikas-Daily-Schedule Draw XXVII-Tournament-SOCIKAS-INVITATION-2023
URL:https://eubcboxing.org/event/xxviith-international-a-socikas-boxing-tournament-2/
LOCATION:Kaunas\, Lithuania
CATEGORIES:International Tournaments
END:VEVENT
END:VCALENDAR