BEGIN:VCALENDAR
VERSION:2.0
PRODID:-//EUBC | EUROPEAN BOXING CONFEDERATION - ECPv6.0.12//NONSGML v1.0//EN
CALSCALE:GREGORIAN
METHOD:PUBLISH
X-WR-CALNAME:EUBC | EUROPEAN BOXING CONFEDERATION
X-ORIGINAL-URL:https://eubcboxing.org
X-WR-CALDESC:Events for EUBC | EUROPEAN BOXING CONFEDERATION
REFRESH-INTERVAL;VALUE=DURATION:PT1H
X-Robots-Tag:noindex
X-PUBLISHED-TTL:PT1H
BEGIN:VTIMEZONE
TZID:UTC
BEGIN:STANDARD
TZOFFSETFROM:+0000
TZOFFSETTO:+0000
TZNAME:UTC
DTSTART:20220101T000000
END:STANDARD
END:VTIMEZONE
BEGIN:VEVENT
DTSTART;TZID=UTC:20221206T000000
DTEND;TZID=UTC:20221206T000000
DTSTAMP:20260422T134222
CREATED:20230421T111214Z
LAST-MODIFIED:20230421T132801Z
UID:49748-1670284800-1670284800@eubcboxing.org
SUMMARY:Dracula Open - 2023
DESCRIPTION:
URL:https://eubcboxing.org/event/dracula-open-2023/
CATEGORIES:International Tournaments
END:VEVENT
BEGIN:VEVENT
DTSTART;TZID=UTC:20221206T000000
DTEND;TZID=UTC:20221206T000000
DTSTAMP:20260422T134222
CREATED:20230421T111214Z
LAST-MODIFIED:20230421T132801Z
UID:49749-1670284800-1670284800@eubcboxing.org
SUMMARY:60th Belgrade Winner Boxing Tournament
DESCRIPTION:
URL:https://eubcboxing.org/event/60th-belgrade-winner-boxing-tournament/
CATEGORIES:International Tournaments
END:VEVENT
BEGIN:VEVENT
DTSTART;TZID=UTC:20221227T000000
DTEND;TZID=UTC:20221227T000000
DTSTAMP:20260422T134222
CREATED:20230421T111214Z
LAST-MODIFIED:20230421T132801Z
UID:49750-1672099200-1672099200@eubcboxing.org
SUMMARY:Open regional Boxing Tournament in memory of Absolute champion of the USSR A. Yukov
DESCRIPTION:
URL:https://eubcboxing.org/event/open-regional-boxing-tournament-in-memory-of-absolute-champion-of-the-ussr-a-yukov-2/
END:VEVENT
END:VCALENDAR