BEGIN:VCALENDAR
VERSION:2.0
PRODID:-//EUBC | EUROPEAN BOXING CONFEDERATION - ECPv6.0.12//NONSGML v1.0//EN
CALSCALE:GREGORIAN
METHOD:PUBLISH
X-WR-CALNAME:EUBC | EUROPEAN BOXING CONFEDERATION
X-ORIGINAL-URL:https://eubcboxing.org
X-WR-CALDESC:Events for EUBC | EUROPEAN BOXING CONFEDERATION
REFRESH-INTERVAL;VALUE=DURATION:PT1H
X-Robots-Tag:noindex
X-PUBLISHED-TTL:PT1H
BEGIN:VTIMEZONE
TZID:UTC
BEGIN:STANDARD
TZOFFSETFROM:+0000
TZOFFSETTO:+0000
TZNAME:UTC
DTSTART:20230101T000000
END:STANDARD
END:VTIMEZONE
BEGIN:VEVENT
DTSTART;VALUE=DATE:20231018
DTEND;VALUE=DATE:20231023
DTSTAMP:20260422T031208
CREATED:20230910T190531Z
LAST-MODIFIED:20231020T165958Z
UID:51589-1697587200-1698019199@eubcboxing.org
SUMMARY:66. Golden Glove - Cacak - SERBIA 2023 (elite Men’s and Women’s)
DESCRIPTION:DAILY RESULTS \n3rd Day \n2nd day \n1st Day \nDAILY SCHEDULE \nFinals \n3rd day \n2nd Day \n1st Day \n  \nNumber of Entries by Team \nEntry List by Weight Category \nCompetition plan \nEntry List by Team \nDRAW SHEETS \n  \n\n  \n  \n02 – Final Form Golden Glove 2023 01 – Preliminary Form Golden Glove 2023 INVITATION – 66. Golden Glove – Cacak – SERBIA 2023 (1)
URL:https://eubcboxing.org/event/66-golden-glove-cacak-serbia-2023-elite-mens-and-womens/
LOCATION:Čačak\, Serbia\, ČAČAK\, Serbia
CATEGORIES:International Tournaments,Multisport
ORGANIZER;CN="Serbian%20Boxing%20Federation":MAILTO:nations.cup.junior@gmail.com
END:VEVENT
END:VCALENDAR