BEGIN:VCALENDAR
VERSION:2.0
PRODID:-//EUBC | EUROPEAN BOXING CONFEDERATION - ECPv6.0.12//NONSGML v1.0//EN
CALSCALE:GREGORIAN
METHOD:PUBLISH
X-ORIGINAL-URL:https://eubcboxing.org
X-WR-CALDESC:Events for EUBC | EUROPEAN BOXING CONFEDERATION
REFRESH-INTERVAL;VALUE=DURATION:PT1H
X-Robots-Tag:noindex
X-PUBLISHED-TTL:PT1H
BEGIN:VTIMEZONE
TZID:UTC
BEGIN:STANDARD
TZOFFSETFROM:+0000
TZOFFSETTO:+0000
TZNAME:UTC
DTSTART:20220101T000000
END:STANDARD
END:VTIMEZONE
BEGIN:VEVENT
DTSTART;TZID=UTC:20221130T000000
DTEND;TZID=UTC:20221130T000000
DTSTAMP:20260421T185914
CREATED:20230421T111116Z
LAST-MODIFIED:20230421T132701Z
UID:49726-1669766400-1669766400@eubcboxing.org
SUMMARY:III European Games
DESCRIPTION:
URL:https://eubcboxing.org/event/iii-european-games/
CATEGORIES:Multisport
END:VEVENT
END:VCALENDAR