BEGIN:VCALENDAR
VERSION:2.0
PRODID:-//EUBC | EUROPEAN BOXING CONFEDERATION - ECPv6.0.12//NONSGML v1.0//EN
CALSCALE:GREGORIAN
METHOD:PUBLISH
X-ORIGINAL-URL:https://eubcboxing.org
X-WR-CALDESC:Events for EUBC | EUROPEAN BOXING CONFEDERATION
REFRESH-INTERVAL;VALUE=DURATION:PT1H
X-Robots-Tag:noindex
X-PUBLISHED-TTL:PT1H
BEGIN:VTIMEZONE
TZID:UTC
BEGIN:STANDARD
TZOFFSETFROM:+0000
TZOFFSETTO:+0000
TZNAME:UTC
DTSTART:20240101T000000
END:STANDARD
END:VTIMEZONE
BEGIN:VEVENT
DTSTART;VALUE=DATE:20240415
DTEND;VALUE=DATE:20240430
DTSTAMP:20260422T090533
CREATED:20230925T130855Z
LAST-MODIFIED:20240429T072825Z
UID:51797-1713139200-1714435199@eubcboxing.org
SUMMARY:EUBC Elite Men and Women European Boxing Championships\, Belgrade 2024
DESCRIPTION:Medalists by weight category \nMedal standings \nFinals RESULTS \nTop list \nRESULTS \nSession 31 \nSession 30 \nSession 28 \nSession 27 \nSession 26 \nSession 25 \nSession 24 \nSession 23 \nSession 22 \nSession 21 \nSession 20 \nSession 19 \nSession 18 \nSession 17 \nSession 16 \nSession 15 \nSession 14 \nSession 13 \nSession 12 \nSession 11 \nSession 10 \nSession 9 \nSession 8 \nSession 7 \nSession 6 \nSession 5 \nSession 4 \nSession 3 \nSession 2 \nSession 1 \n  \nSCHEDULE \n28.04.2024 \n27.04.2024 (2) \n27.04.2024 (1) \n25.04.2024 \n24.04.2024 \n23.04.2024 \n22.04.2024 \n21.04.2024 \n20.04.2024 \n19.04.2024 \n18.04.2024 \nCompetition schedule \nDRAW \nMen 48 \nMen 51 \nMen 54 \nMen 57 \nMen 60 \nMen 63\,5 \nMen 67 \nMen 71 \nMen 75 \nMen 80 \nMen 86 \nMen 92 \nMen +92 \nWomen 48 \nWomen 50 \nWomen 52 \nWomen 54 \nWomen 57 \nWomen 60 \nWomen 63 \nWomen 66 \nWomen 70 \nWomen 75 \nWomen 81 \nWomen +81 \n  \n  \n  \nTeam Delegation Handbook_Elite M&W Championships-Belgrade 2024 \nEUBC NON-Elite Championships Bidding Guidelines Template V2024 \nEUBC ELITE Championships Bidding Guidelines Template V2024
URL:https://eubcboxing.org/event/eubc-elite-men-and-women-european-boxing-championships-2024/
LOCATION:Belgrade\, Serbia
CATEGORIES:EUBC Championships
ORGANIZER;CN="BOXING%20FEDERATION%20OF%20SERBIA":MAILTO:box.serbia@gmail.com
END:VEVENT
BEGIN:VEVENT
DTSTART;VALUE=DATE:20240621
DTEND;VALUE=DATE:20240704
DTSTAMP:20260422T090533
CREATED:20230925T131106Z
LAST-MODIFIED:20240628T065633Z
UID:51801-1718928000-1720051199@eubcboxing.org
SUMMARY:EUBC Junior Boys & Girls European Boxing Championships\, Sarajevo 2024
DESCRIPTION:RESULTS \nSession 1 \nSession 2 \nSession 3 \nSession 4 \nSession 5 \nSession 6 \nSession 7 \nSession 8 \nSession 9 \nSession 10 \nSession 11 \nSession 12 \nSession 13 \nSession 14 \nSession 15 \nSession 16 \nSession 17 \nSession 18 \nSession 19 \nSession 20 \nSCHEDULE \n28.06.2024 \n27.06.2024 \n26.06.2024 \n25.06.2024 \n24.06.2024 \n23.06.2024 \n  \nCompetition Schedule \n  \nDRAW \nW 46kg \nW 48kg \nW 50kg \nW 52kg \nW 54kg \nW 57kg \nW 60kg \nW 63kg \nW 66kg \nW 70kg \nW 75kg \nW 80kg \nW +80kg \n  \nM 48kg \nM 46k \nM 50kg \nM 52kg \nM 54kg \nM 57kg \nM 60kg \nM 63kg \nM 66kg \nM 70kg \nM 75kg \nM 80kg \nM +80kg \n 
URL:https://eubcboxing.org/event/eubc-junior-boys-and-girls-european-boxing-championships-2024/
LOCATION:Sarajevo\, Bosnia and Herzegovina
CATEGORIES:EUBC Championships
END:VEVENT
BEGIN:VEVENT
DTSTART;VALUE=DATE:20240801
DTEND;VALUE=DATE:20240812
DTSTAMP:20260422T090533
CREATED:20230925T131239Z
LAST-MODIFIED:20240811T024732Z
UID:51803-1722470400-1723420799@eubcboxing.org
SUMMARY:EUBC Schoolboys & Schoolgirls European Boxing Championships 2024
DESCRIPTION:Top List \nRanking by Team \nMedallists by Weight Category \nMedal Standings \nRESULTS \nFinals Results \nSession 27 \nSession 26 \nSession 24 \nSession 23 \nSession 22 \nSession 21 \nSession 20 \nSession 19 \nSession 18 \nSession 17 \nSession 16 \nSession 15 \nSession 14 \nSession 13 \nSession 12 \nSession 11 \nSession 10 \nSession 9 \nSession 8 \nSession 7 \nSession 6 \nSession 5 \nSession 4 \nSession 3 \nSession 2 \nSession 1 \n  \nSCHEDULE \nFinals Schedule \n10.08.2024 \n08.08.2024 \n07.08.2024 \n06.08.2024 \n05.08.2024 \n04.08.2024 \n03.08.2024 \nCompetition Schedule \nDRAW MEN \n90 kg \n75 kg \n70 kg \n66 kg \n63 kg \n60 kg \n57 kg \n54 kg \n52 kg \n50 kg \n48 kg \n46 kg \n44 kg \n42 kg \n40 kg \nDRAW WOMEN \n70 kg \n64 kg \n60 kg \n57 kg \n54 kg \n51 kg \n48 kg \n46 kg \n44 kg \n42 kg \n40 kg \n38 kg \n36 kg \n 
URL:https://eubcboxing.org/event/eubc-schoolboys-and-schoolgirls-european-boxing-championships-2024/
LOCATION:Banya Luka\, Bosnia and Herzegovina
CATEGORIES:EUBC Championships
ORGANIZER;CN="EUBC":MAILTO:eubc.office@gmail.com
END:VEVENT
BEGIN:VEVENT
DTSTART;VALUE=DATE:20241008
DTEND;VALUE=DATE:20241022
DTSTAMP:20260422T090533
CREATED:20230925T131327Z
LAST-MODIFIED:20241021T101004Z
UID:51806-1728345600-1729555199@eubcboxing.org
SUMMARY:EUBC U23 Men and Women Boxing Championships\, Sofia 2024
DESCRIPTION:SCHEDULE \n12.10.2024 \n13.10.2024 \n14.10.2024 \n15.10.2024 \n16.10.2024 \n17.10.2024 \n19.10.2024 \n20.10.2024 \nRESULTS \nSession 1 \nSession 2 \nSession 3 \nSession 4 \nSession 5 \nSession 6 \nSession 7 \nSession 8 \nSession 9 \nSession 10 \nSession 11 \nSession 12 \nSession 13 \nSession 14 \nSession 15 \nSession 17 \nSession 18 \nSession 19 \nSession 20 \nSession 21 \nSession 22 \nSession 23 \nSession 24 \nSession 26 \nSession 27 \nFinals Results women \n  \nMedal Standings \nTop List \nMedallists by Weight Category \nRanking by Team (1) \nRanking by Team (2) \n\n  \nCompetition Schedule SOFIA 2024 \nDraw Sheets Men SOFIA 2024 \nDraw Sheets Women SOFIA 2024 \n  \n 
URL:https://eubcboxing.org/event/eubc-u22-men-and-women-european-boxing-championships-2024/
LOCATION:Sofia\, Bulgaria\, Sofia\, Bulgaria
CATEGORIES:EUBC Championships
ORGANIZER;CN="BULGARIAN%20BOXING%20FEDERATION":MAILTO:strandja2024@gmail.com
END:VEVENT
BEGIN:VEVENT
DTSTART;VALUE=DATE:20241116
DTEND;VALUE=DATE:20241125
DTSTAMP:20260422T090533
CREATED:20231210T114130Z
LAST-MODIFIED:20241109T135542Z
UID:52491-1731715200-1732492799@eubcboxing.org
SUMMARY:EUBC Balkans Elite\, Youth and Junior Boxing Championships
DESCRIPTION:Elite\, Youth & Junior – male & female \nEUBC Balkan Championships 2024 – final handbook
URL:https://eubcboxing.org/event/eubc-balkans-elite-youth-and-junior-boxing-championships/
LOCATION:Loznica\, Loznica\, Serbia
CATEGORIES:EUBC Championships
ORGANIZER;CN="Serbian%20Boxing%20Federation":MAILTO:nations.cup.junior@gmail.com
END:VEVENT
BEGIN:VEVENT
DTSTART;VALUE=DATE:20250708
DTEND;VALUE=DATE:20250718
DTSTAMP:20260422T090533
CREATED:20250204T074914Z
LAST-MODIFIED:20250715T220652Z
UID:54627-1751932800-1752796799@eubcboxing.org
SUMMARY:EUBC Junior European Boxing Championships
DESCRIPTION:Team Delegation Handbook – EUBC Junior European Championhips NP \n\n\n\n\n\n\n\n  \nDay 7 Schedule \nDay 6 Schedule \nDay 5 Schedule \nDay 4 Schedule \n Day3 Schedule \nDay 2 Schedule \nDay 1 Schedule \n  \nSession 12 Results \nSession 11 Results \nSession 10 Results \nSession 9 Results \nSession 8 Results \nSession 7 Results \nSession 6 Results \nSession 5 Results \nSession4 Results \nSession3 Results \nSession2 Results \nSession 1 Results \n  \nCompetition Plan \nBerger M \nBerger W
URL:https://eubcboxing.org/event/eubc-junior-europe-championship/
LOCATION:Novi Pazar\, Serbia\, Novi Pazar\, Serbia
CATEGORIES:EUBC Championships
ORGANIZER;CN="BOXING%20FEDERATION%20OF%20SERBIA":MAILTO:box.serbia@gmail.com
END:VEVENT
BEGIN:VEVENT
DTSTART;VALUE=DATE:20250721
DTEND;VALUE=DATE:20250729
DTSTAMP:20260422T090533
CREATED:20250204T080211Z
LAST-MODIFIED:20250726T192053Z
UID:54632-1753056000-1753747199@eubcboxing.org
SUMMARY:EUBC Schoolboys and Schoolgirls European Boxing Championships
DESCRIPTION:Team Delegation Handbook – EUBC Schoolboysgirls European Championhips Zlatibor \n  \n  \n\n\n\nSchoolboys abd schoolgirls\n\n\n\nSession 7 Results \nSession 6 Results \nSession 5 Results \nSession 4 Results \nSession 3 Results \nSession 2 Results \nSession 1 Results \n  \nDay 5 Schedule \nDay 4 Schedule \nDay 3 Schedule \nDay 2 Schedule \nDay 1 Schedule \n  \nDraws Women \nDraws Men \nALL. \nCPCOMPETITION PLAN
URL:https://eubcboxing.org/event/eubc-schoolboys-and-schoolgirls-europe-championship/
LOCATION:Zlatibor\, Serbia\, Zlatibor\, Serbia
CATEGORIES:EUBC Championships
ORGANIZER;CN="Serbian%20Boxing%20Federstion":MAILTO:box.serbia@gmail.com
END:VEVENT
BEGIN:VEVENT
DTSTART;VALUE=DATE:20251012
DTEND;VALUE=DATE:20251021
DTSTAMP:20260422T090533
CREATED:20250924T103224Z
LAST-MODIFIED:20250924T103224Z
UID:55011-1760227200-1761004799@eubcboxing.org
SUMMARY:OPEN PARTICIPATION TO EVERYONE EUBC Open Balkan Men & Women Boxing Championships Pale 2025
DESCRIPTION:EUBC Open Balkan Men & Women Boxing Championships Handbook-vr1
URL:https://eubcboxing.org/event/open-participation-to-everyone-eubc-open-balkan-men-women-boxing-championships-pale-2025/
LOCATION:Serbia\, Pale\, Pale\, Serbia
CATEGORIES:EUBC Championships
ORGANIZER;CN="BOXING%20FEDERATION%20OF%20SERBIA":MAILTO:box.serbia@gmail.com
END:VEVENT
BEGIN:VEVENT
DTSTART;VALUE=DATE:20251101
DTEND;VALUE=DATE:20251111
DTSTAMP:20260422T090533
CREATED:20250215T151253Z
LAST-MODIFIED:20251110T074724Z
UID:54673-1761955200-1762819199@eubcboxing.org
SUMMARY:EUBC Youth & U23 European Boxing Championships
DESCRIPTION:RESULTS \nFINAL RESULTS YOUTH MAN \nRESULTS YOUTH WOMEN FINAL \nresults day 6 \nresults day 5 \nresults day 4 \nresults day 3 \nresults day 2 \nresults day 1 \n  \nSCHEDULE \nFINAL PROGRAM \nday 6 FINALS program \nDay 6 \nDay 5 \nDay 4 \nDay 3 \nDay 2 \nDay 1 \n  \n  \nSCHEDULE u23 WOMEN \nSCHEDULE U23 MAN \nYOUTH MAN SCHEDULE \nYOUTH WOMEN SCHEDULE \n  \n 
URL:https://eubcboxing.org/event/eubc-u23-europe-championship/
LOCATION:Yerevan\, Armenia\, Yerevan\, Armenia
CATEGORIES:EUBC Championships
END:VEVENT
END:VCALENDAR