BEGIN:VCALENDAR
VERSION:2.0
PRODID:-//EUBC | EUROPEAN BOXING CONFEDERATION - ECPv6.0.12//NONSGML v1.0//EN
CALSCALE:GREGORIAN
METHOD:PUBLISH
X-ORIGINAL-URL:https://eubcboxing.org
X-WR-CALDESC:Events for EUBC | EUROPEAN BOXING CONFEDERATION
REFRESH-INTERVAL;VALUE=DURATION:PT1H
X-Robots-Tag:noindex
X-PUBLISHED-TTL:PT1H
BEGIN:VTIMEZONE
TZID:UTC
BEGIN:STANDARD
TZOFFSETFROM:+0000
TZOFFSETTO:+0000
TZNAME:UTC
DTSTART:20220101T000000
END:STANDARD
END:VTIMEZONE
BEGIN:VEVENT
DTSTART;TZID=UTC:20221130T000000
DTEND;TZID=UTC:20221130T000000
DTSTAMP:20260422T040843
CREATED:20230421T111102Z
LAST-MODIFIED:20230421T132631Z
UID:49714-1669766400-1669766400@eubcboxing.org
SUMMARY:EUBC U22 European Boxing Championships
DESCRIPTION:
URL:https://eubcboxing.org/event/eubc-u22-european-boxing-championships-2/
CATEGORIES:EUBC Championships
END:VEVENT
BEGIN:VEVENT
DTSTART;TZID=UTC:20221130T000000
DTEND;TZID=UTC:20221130T000000
DTSTAMP:20260422T040843
CREATED:20230421T111102Z
LAST-MODIFIED:20230421T132631Z
UID:49717-1669766400-1669766400@eubcboxing.org
SUMMARY:EUBC Youth European Boxing Championships
DESCRIPTION:
URL:https://eubcboxing.org/event/eubc-youth-european-boxing-championships-3/
CATEGORIES:EUBC Championships
END:VEVENT
BEGIN:VEVENT
DTSTART;TZID=UTC:20221130T000000
DTEND;TZID=UTC:20221130T000000
DTSTAMP:20260422T040843
CREATED:20230421T111116Z
LAST-MODIFIED:20230421T132701Z
UID:49727-1669766400-1669766400@eubcboxing.org
SUMMARY:EUBC Junior European Boxing Championships
DESCRIPTION:
URL:https://eubcboxing.org/event/eubc-junior-european-boxing-championships-2/
CATEGORIES:EUBC Championships
END:VEVENT
BEGIN:VEVENT
DTSTART;TZID=UTC:20221130T000000
DTEND;TZID=UTC:20221130T000000
DTSTAMP:20260422T040843
CREATED:20230421T111119Z
LAST-MODIFIED:20230421T132716Z
UID:49730-1669766400-1669766400@eubcboxing.org
SUMMARY:EUBC Schoolboys & Schoolgirls European Boxing Championships
DESCRIPTION:
URL:https://eubcboxing.org/event/eubc-schoolboys-schoolgirls-european-boxing-championships-2/
CATEGORIES:EUBC Championships
END:VEVENT
END:VCALENDAR