BEGIN:VCALENDAR
VERSION:2.0
PRODID:-//EUBC | EUROPEAN BOXING CONFEDERATION - ECPv6.0.12//NONSGML v1.0//EN
CALSCALE:GREGORIAN
METHOD:PUBLISH
X-WR-CALNAME:EUBC | EUROPEAN BOXING CONFEDERATION
X-ORIGINAL-URL:https://eubcboxing.org
X-WR-CALDESC:Events for EUBC | EUROPEAN BOXING CONFEDERATION
REFRESH-INTERVAL;VALUE=DURATION:PT1H
X-Robots-Tag:noindex
X-PUBLISHED-TTL:PT1H
BEGIN:VTIMEZONE
TZID:UTC
BEGIN:STANDARD
TZOFFSETFROM:+0000
TZOFFSETTO:+0000
TZNAME:UTC
DTSTART:20260101T000000
END:STANDARD
END:VTIMEZONE
BEGIN:VEVENT
DTSTART;VALUE=DATE:20260831
DTEND;VALUE=DATE:20260907
DTSTAMP:20260422T031123
CREATED:20251121T091254Z
LAST-MODIFIED:20251121T091254Z
UID:55125-1788134400-1788739199@eubcboxing.org
SUMMARY:International Boxing Tournament “In Memory of the First President of the Chechen Republic\, Hero of Russia Akhmat-Khadzhi Kadyrov”
DESCRIPTION:Elite men
URL:https://eubcboxing.org/event/international-boxing-tournament-in-memory-of-the-first-president-of-the-chechen-republic-hero-of-russia-akhmat-khadzhi-kadyrov/
LOCATION:Chechen Republic\, Grozny
CATEGORIES:International Tournaments
END:VEVENT
END:VCALENDAR