BEGIN:VCALENDAR
VERSION:2.0
PRODID:-//EUBC | EUROPEAN BOXING CONFEDERATION - ECPv6.0.12//NONSGML v1.0//EN
CALSCALE:GREGORIAN
METHOD:PUBLISH
X-ORIGINAL-URL:https://eubcboxing.org
X-WR-CALDESC:Events for EUBC | EUROPEAN BOXING CONFEDERATION
REFRESH-INTERVAL;VALUE=DURATION:PT1H
X-Robots-Tag:noindex
X-PUBLISHED-TTL:PT1H
BEGIN:VTIMEZONE
TZID:UTC
BEGIN:STANDARD
TZOFFSETFROM:+0000
TZOFFSETTO:+0000
TZNAME:UTC
DTSTART:20250101T000000
END:STANDARD
END:VTIMEZONE
BEGIN:VEVENT
DTSTART;VALUE=DATE:20251127
DTEND;VALUE=DATE:20251202
DTSTAMP:20260422T121451
CREATED:20250805T143511Z
LAST-MODIFIED:20250809T123518Z
UID:54976-1764201600-1764633599@eubcboxing.org
SUMMARY:International Boxing Tournament  "Vladislav Strizhov Memorial Tournament"
DESCRIPTION:Schoolboys and schoolgirls (13–14 years old) \nМС памяти В.Стрижова г. Надым
URL:https://eubcboxing.org/event/international-boxing-tournament-vladislav-strizhov-memorial-tournament/
LOCATION:Nadym\, Russia\, Nadym\, Russian Federation
CATEGORIES:International Tournaments
END:VEVENT
END:VCALENDAR