BEGIN:VCALENDAR
VERSION:2.0
PRODID:-//EUBC | EUROPEAN BOXING CONFEDERATION - ECPv6.0.12//NONSGML v1.0//EN
CALSCALE:GREGORIAN
METHOD:PUBLISH
X-ORIGINAL-URL:https://eubcboxing.org
X-WR-CALDESC:Events for EUBC | EUROPEAN BOXING CONFEDERATION
REFRESH-INTERVAL;VALUE=DURATION:PT1H
X-Robots-Tag:noindex
X-PUBLISHED-TTL:PT1H
BEGIN:VTIMEZONE
TZID:UTC
BEGIN:STANDARD
TZOFFSETFROM:+0000
TZOFFSETTO:+0000
TZNAME:UTC
DTSTART:20250101T000000
END:STANDARD
END:VTIMEZONE
BEGIN:VEVENT
DTSTART;VALUE=DATE:20251112
DTEND;VALUE=DATE:20251117
DTSTAMP:20260422T090958
CREATED:20250915T180421Z
LAST-MODIFIED:20250915T180421Z
UID:55008-1762905600-1763337599@eubcboxing.org
SUMMARY:68th Golden Glove Tournament
DESCRIPTION:
URL:https://eubcboxing.org/event/68th-golden-glove-tournament/
LOCATION:Zlatibor\, Serbia\, Zlatibor\, Serbia
CATEGORIES:International Tournaments
ORGANIZER;CN="Serbian%20Boxing%20Federation":MAILTO:nations.cup.junior@gmail.com
END:VEVENT
END:VCALENDAR