BEGIN:VCALENDAR
VERSION:2.0
PRODID:-//EUBC | EUROPEAN BOXING CONFEDERATION - ECPv6.0.12//NONSGML v1.0//EN
CALSCALE:GREGORIAN
METHOD:PUBLISH
X-WR-CALNAME:EUBC | EUROPEAN BOXING CONFEDERATION
X-ORIGINAL-URL:https://eubcboxing.org
X-WR-CALDESC:Events for EUBC | EUROPEAN BOXING CONFEDERATION
REFRESH-INTERVAL;VALUE=DURATION:PT1H
X-Robots-Tag:noindex
X-PUBLISHED-TTL:PT1H
BEGIN:VTIMEZONE
TZID:UTC
BEGIN:STANDARD
TZOFFSETFROM:+0000
TZOFFSETTO:+0000
TZNAME:UTC
DTSTART:20250101T000000
END:STANDARD
END:VTIMEZONE
BEGIN:VEVENT
DTSTART;VALUE=DATE:20251002
DTEND;VALUE=DATE:20251005
DTSTAMP:20260422T134224
CREATED:20250812T061025Z
LAST-MODIFIED:20250812T061025Z
UID:54983-1759363200-1759622399@eubcboxing.org
SUMMARY:1.International AoB NextGen Cup
DESCRIPTION:Invitation AoB NextGen Cup 2025
URL:https://eubcboxing.org/event/1-international-aob-nextgen-cup/
LOCATION:Frankfurt\, Germany
CATEGORIES:International Tournaments
ORGANIZER;CN="German%20Boxing%20Association":MAILTO:b.bastian@ boxverband.de
END:VEVENT
END:VCALENDAR