BEGIN:VCALENDAR
VERSION:2.0
PRODID:-//EUBC | EUROPEAN BOXING CONFEDERATION - ECPv6.0.12//NONSGML v1.0//EN
CALSCALE:GREGORIAN
METHOD:PUBLISH
X-ORIGINAL-URL:https://eubcboxing.org
X-WR-CALDESC:Events for EUBC | EUROPEAN BOXING CONFEDERATION
REFRESH-INTERVAL;VALUE=DURATION:PT1H
X-Robots-Tag:noindex
X-PUBLISHED-TTL:PT1H
BEGIN:VTIMEZONE
TZID:UTC
BEGIN:STANDARD
TZOFFSETFROM:+0000
TZOFFSETTO:+0000
TZNAME:UTC
DTSTART:20250101T000000
END:STANDARD
END:VTIMEZONE
BEGIN:VEVENT
DTSTART;VALUE=DATE:20250907
DTEND;VALUE=DATE:20250915
DTSTAMP:20260422T165051
CREATED:20250321T201121Z
LAST-MODIFIED:20250321T201122Z
UID:54777-1757203200-1757894399@eubcboxing.org
SUMMARY:INTERNATIONAL YOUTH BOXING TOURNAMENT “EURASIAN DAURIA CUP” IN MEMORY OF BOXING VETERANS OF THE RUSSIAN FEDERATION
DESCRIPTION:
URL:https://eubcboxing.org/event/international-youth-boxing-tournament-eurasian-dauria-cup-in-memory-of-boxing-veterans-of-the-russian-federation/
LOCATION:Chita\, Russia\, Chita\, Russian Federation
CATEGORIES:International Tournaments
END:VEVENT
BEGIN:VEVENT
DTSTART;VALUE=DATE:20250907
DTEND;VALUE=DATE:20250915
DTSTAMP:20260422T165051
CREATED:20250527T120246Z
LAST-MODIFIED:20250805T142611Z
UID:54835-1757203200-1757894399@eubcboxing.org
SUMMARY:International Youth Boxing Tournament “Eurasian Dauria Cup”
DESCRIPTION:Youth (17–18 years old) \n  \nINTERNATIONAL YOUTH BOXING TOURNAMENT “EURASIAN DAURIA CUP” IN MEMORY OF BOXING VETERANS OF THE RUSSIAN FEDERATION_07 – 14 September 2025
URL:https://eubcboxing.org/event/international-youth-boxing-tournament-eurasian-dauria-cup/
LOCATION:Chita\, Russia\, Chita\, Russian Federation
CATEGORIES:International Tournaments
END:VEVENT
END:VCALENDAR