BEGIN:VCALENDAR
VERSION:2.0
PRODID:-//EUBC | EUROPEAN BOXING CONFEDERATION - ECPv6.0.12//NONSGML v1.0//EN
CALSCALE:GREGORIAN
METHOD:PUBLISH
X-WR-CALNAME:EUBC | EUROPEAN BOXING CONFEDERATION
X-ORIGINAL-URL:https://eubcboxing.org
X-WR-CALDESC:Events for EUBC | EUROPEAN BOXING CONFEDERATION
REFRESH-INTERVAL;VALUE=DURATION:PT1H
X-Robots-Tag:noindex
X-PUBLISHED-TTL:PT1H
BEGIN:VTIMEZONE
TZID:UTC
BEGIN:STANDARD
TZOFFSETFROM:+0000
TZOFFSETTO:+0000
TZNAME:UTC
DTSTART:20250101T000000
END:STANDARD
END:VTIMEZONE
BEGIN:VEVENT
DTSTART;VALUE=DATE:20250708
DTEND;VALUE=DATE:20250718
DTSTAMP:20260423T034439
CREATED:20250204T074914Z
LAST-MODIFIED:20250715T220652Z
UID:54627-1751932800-1752796799@eubcboxing.org
SUMMARY:EUBC Junior European Boxing Championships
DESCRIPTION:Team Delegation Handbook – EUBC Junior European Championhips NP \n\n\n\n\n\n\n\n  \nDay 7 Schedule \nDay 6 Schedule \nDay 5 Schedule \nDay 4 Schedule \n Day3 Schedule \nDay 2 Schedule \nDay 1 Schedule \n  \nSession 12 Results \nSession 11 Results \nSession 10 Results \nSession 9 Results \nSession 8 Results \nSession 7 Results \nSession 6 Results \nSession 5 Results \nSession4 Results \nSession3 Results \nSession2 Results \nSession 1 Results \n  \nCompetition Plan \nBerger M \nBerger W
URL:https://eubcboxing.org/event/eubc-junior-europe-championship/
LOCATION:Novi Pazar\, Serbia\, Novi Pazar\, Serbia
CATEGORIES:EUBC Championships
ORGANIZER;CN="BOXING%20FEDERATION%20OF%20SERBIA":MAILTO:box.serbia@gmail.com
END:VEVENT
END:VCALENDAR