BEGIN:VCALENDAR
VERSION:2.0
PRODID:-//EUBC | EUROPEAN BOXING CONFEDERATION - ECPv6.0.12//NONSGML v1.0//EN
CALSCALE:GREGORIAN
METHOD:PUBLISH
X-WR-CALNAME:EUBC | EUROPEAN BOXING CONFEDERATION
X-ORIGINAL-URL:https://eubcboxing.org
X-WR-CALDESC:Events for EUBC | EUROPEAN BOXING CONFEDERATION
REFRESH-INTERVAL;VALUE=DURATION:PT1H
X-Robots-Tag:noindex
X-PUBLISHED-TTL:PT1H
BEGIN:VTIMEZONE
TZID:UTC
BEGIN:STANDARD
TZOFFSETFROM:+0000
TZOFFSETTO:+0000
TZNAME:UTC
DTSTART:20250101T000000
END:STANDARD
END:VTIMEZONE
BEGIN:VEVENT
DTSTART;VALUE=DATE:20250702
DTEND;VALUE=DATE:20250709
DTSTAMP:20260423T071502
CREATED:20250204T074229Z
LAST-MODIFIED:20250204T074718Z
UID:54621-1751414400-1752019199@eubcboxing.org
SUMMARY:6th International Boxing Tournament "Emil Jechev Memorial"
DESCRIPTION:Youth Men
URL:https://eubcboxing.org/event/6th-international-boxing-tournament-emil-jechev-memorial-3/
LOCATION:Sofia\, Bulgaria\, Sofia\, Bulgaria
CATEGORIES:International Tournaments
END:VEVENT
END:VCALENDAR