BEGIN:VCALENDAR
VERSION:2.0
PRODID:-//EUBC | EUROPEAN BOXING CONFEDERATION - ECPv6.0.12//NONSGML v1.0//EN
CALSCALE:GREGORIAN
METHOD:PUBLISH
X-WR-CALNAME:EUBC | EUROPEAN BOXING CONFEDERATION
X-ORIGINAL-URL:https://eubcboxing.org
X-WR-CALDESC:Events for EUBC | EUROPEAN BOXING CONFEDERATION
REFRESH-INTERVAL;VALUE=DURATION:PT1H
X-Robots-Tag:noindex
X-PUBLISHED-TTL:PT1H
BEGIN:VTIMEZONE
TZID:UTC
BEGIN:STANDARD
TZOFFSETFROM:+0000
TZOFFSETTO:+0000
TZNAME:UTC
DTSTART:20250101T000000
END:STANDARD
END:VTIMEZONE
BEGIN:VEVENT
DTSTART;VALUE=DATE:20250605
DTEND;VALUE=DATE:20250610
DTSTAMP:20260423T093608
CREATED:20250116T105310Z
LAST-MODIFIED:20250116T105310Z
UID:54595-1749081600-1749513599@eubcboxing.org
SUMMARY:MEMORIAL "VLLAZNIA" 2025
DESCRIPTION:ELITE MEN
URL:https://eubcboxing.org/event/memorial-vllaznia-2025/
LOCATION:Shkoder (Albania)
CATEGORIES:International Tournaments
END:VEVENT
END:VCALENDAR