BEGIN:VCALENDAR
VERSION:2.0
PRODID:-//EUBC | EUROPEAN BOXING CONFEDERATION - ECPv6.0.12//NONSGML v1.0//EN
CALSCALE:GREGORIAN
METHOD:PUBLISH
X-ORIGINAL-URL:https://eubcboxing.org
X-WR-CALDESC:Events for EUBC | EUROPEAN BOXING CONFEDERATION
REFRESH-INTERVAL;VALUE=DURATION:PT1H
X-Robots-Tag:noindex
X-PUBLISHED-TTL:PT1H
BEGIN:VTIMEZONE
TZID:UTC
BEGIN:STANDARD
TZOFFSETFROM:+0000
TZOFFSETTO:+0000
TZNAME:UTC
DTSTART:20250101T000000
END:STANDARD
END:VTIMEZONE
BEGIN:VEVENT
DTSTART;VALUE=DATE:20250517
DTEND;VALUE=DATE:20250519
DTSTAMP:20260423T201804
CREATED:20241229T070623Z
LAST-MODIFIED:20241229T070645Z
UID:54554-1747440000-1747612799@eubcboxing.org
SUMMARY:Youth International Tournament "Lah Nimani"
DESCRIPTION:Youth boys & girls (17-18years)
URL:https://eubcboxing.org/event/youth-international-tournament-lah-nimani/
LOCATION:Pristina\, Kosovo
CATEGORIES:International Tournaments
ORGANIZER;CN="Boxing%20Federation%20of%20Kosovo":MAILTO:fboxk@hotmail.com
END:VEVENT
END:VCALENDAR