BEGIN:VCALENDAR
VERSION:2.0
PRODID:-//EUBC | EUROPEAN BOXING CONFEDERATION - ECPv6.0.12//NONSGML v1.0//EN
CALSCALE:GREGORIAN
METHOD:PUBLISH
X-WR-CALNAME:EUBC | EUROPEAN BOXING CONFEDERATION
X-ORIGINAL-URL:https://eubcboxing.org
X-WR-CALDESC:Events for EUBC | EUROPEAN BOXING CONFEDERATION
REFRESH-INTERVAL;VALUE=DURATION:PT1H
X-Robots-Tag:noindex
X-PUBLISHED-TTL:PT1H
BEGIN:VTIMEZONE
TZID:UTC
BEGIN:STANDARD
TZOFFSETFROM:+0000
TZOFFSETTO:+0000
TZNAME:UTC
DTSTART:20250101T000000
END:STANDARD
END:VTIMEZONE
BEGIN:VEVENT
DTSTART;VALUE=DATE:20250301
DTEND;VALUE=DATE:20250311
DTSTAMP:20260424T001401
CREATED:20241229T071007Z
LAST-MODIFIED:20241229T071102Z
UID:54556-1740787200-1741651199@eubcboxing.org
SUMMARY:IBA YOUTH WORLD BOXING CUP 34th “ADRIATIC PEARL”
DESCRIPTION:Official Invitation letter IBA Youth World Boxing Cup Budva 2025 \n  \nPre-Tournament Camp\nBudva\, Montenegro\nFebruary 16th- 28th
URL:https://eubcboxing.org/event/iba-youth-world-boxing-cup-34th-adriatic-pearl/
LOCATION:Budva\, Montenegro\, Montenegro
CATEGORIES:International Tournaments
END:VEVENT
BEGIN:VEVENT
DTSTART;VALUE=DATE:20250306
DTEND;VALUE=DATE:20250317
DTSTAMP:20260424T001401
CREATED:20241227T110628Z
LAST-MODIFIED:20241227T110628Z
UID:54532-1741219200-1742169599@eubcboxing.org
SUMMARY:IBA WOMEN WORLD CHAMPIONSHIP
DESCRIPTION:Elite Women\n\n\n\n  \n 
URL:https://eubcboxing.org/event/iba-women-world-championship/
LOCATION:Serbia
CATEGORIES:IBA Championships
END:VEVENT
END:VCALENDAR