BEGIN:VCALENDAR
VERSION:2.0
PRODID:-//EUBC | EUROPEAN BOXING CONFEDERATION - ECPv6.0.12//NONSGML v1.0//EN
CALSCALE:GREGORIAN
METHOD:PUBLISH
X-ORIGINAL-URL:https://eubcboxing.org
X-WR-CALDESC:Events for EUBC | EUROPEAN BOXING CONFEDERATION
REFRESH-INTERVAL;VALUE=DURATION:PT1H
X-Robots-Tag:noindex
X-PUBLISHED-TTL:PT1H
BEGIN:VTIMEZONE
TZID:UTC
BEGIN:STANDARD
TZOFFSETFROM:+0000
TZOFFSETTO:+0000
TZNAME:UTC
DTSTART:20250101T000000
END:STANDARD
END:VTIMEZONE
BEGIN:VEVENT
DTSTART;VALUE=DATE:20250222
DTEND;VALUE=DATE:20250304
DTSTAMP:20260423T230153
CREATED:20241227T110301Z
LAST-MODIFIED:20250223T163950Z
UID:54529-1740182400-1741046399@eubcboxing.org
SUMMARY:76th International Boxing Tournament STRANDJA
DESCRIPTION:Elite Men and Women\n\n\n\n  \nBoxing2025 – Strandja Memorial Tournament Team Delegations Handbook \n  \nBout List Day 1 C08 (1) Draw Sheets Men STRANDJA 2025 Draw Sheets Women STRANDJA 2025 C30 (1) Competition schedule – Strandja 2025
URL:https://eubcboxing.org/event/76th-international-boxing-tournament-strandja/
LOCATION:Sofia\, Bulgaria\, Sofia\, Bulgaria
CATEGORIES:International Tournaments
ORGANIZER;CN="BULGARIAN%20BOXING%20FEDERATION":MAILTO:strandja2024@gmail.com
END:VEVENT
END:VCALENDAR