BEGIN:VCALENDAR
VERSION:2.0
PRODID:-//EUBC | EUROPEAN BOXING CONFEDERATION - ECPv6.0.12//NONSGML v1.0//EN
CALSCALE:GREGORIAN
METHOD:PUBLISH
X-WR-CALNAME:EUBC | EUROPEAN BOXING CONFEDERATION
X-ORIGINAL-URL:https://eubcboxing.org
X-WR-CALDESC:Events for EUBC | EUROPEAN BOXING CONFEDERATION
REFRESH-INTERVAL;VALUE=DURATION:PT1H
X-Robots-Tag:noindex
X-PUBLISHED-TTL:PT1H
BEGIN:VTIMEZONE
TZID:UTC
BEGIN:STANDARD
TZOFFSETFROM:+0000
TZOFFSETTO:+0000
TZNAME:UTC
DTSTART:20250101T000000
END:STANDARD
END:VTIMEZONE
BEGIN:VEVENT
DTSTART;VALUE=DATE:20250215
DTEND;VALUE=DATE:20250223
DTSTAMP:20260424T001436
CREATED:20241227T105645Z
LAST-MODIFIED:20241227T105645Z
UID:54523-1739577600-1740268799@eubcboxing.org
SUMMARY:"In memory of Soviet and Russian soldiers in the performance of their military duty" 
DESCRIPTION:Youth Men\n\n\n\n  \n 
URL:https://eubcboxing.org/event/in-memory-of-soviet-and-russian-soldiers-in-the-performance-of-their-military-duty/
LOCATION:Komsomolsk-on-Amur\, Russia\, Komsomolsk-on-Amur\, Russian Federation
CATEGORIES:International Tournaments
END:VEVENT
BEGIN:VEVENT
DTSTART;VALUE=DATE:20250215
DTEND;VALUE=DATE:20250225
DTSTAMP:20260424T001436
CREATED:20241227T110040Z
LAST-MODIFIED:20241227T110040Z
UID:54525-1739577600-1740441599@eubcboxing.org
SUMMARY:International Tournament Dracula Open 2025
DESCRIPTION:Youth\, Junior and Schoolboys and Schoolgirls\n\n\n\n  \nDracula Open 2025 – Invitation
URL:https://eubcboxing.org/event/international-tournament-dracula-open-2025/
LOCATION:Braila\, Romania\, Braila\, Romania
CATEGORIES:International Tournaments
END:VEVENT
END:VCALENDAR