BEGIN:VCALENDAR
VERSION:2.0
PRODID:-//EUBC | EUROPEAN BOXING CONFEDERATION - ECPv6.0.12//NONSGML v1.0//EN
CALSCALE:GREGORIAN
METHOD:PUBLISH
X-ORIGINAL-URL:https://eubcboxing.org
X-WR-CALDESC:Events for EUBC | EUROPEAN BOXING CONFEDERATION
REFRESH-INTERVAL;VALUE=DURATION:PT1H
X-Robots-Tag:noindex
X-PUBLISHED-TTL:PT1H
BEGIN:VTIMEZONE
TZID:UTC
BEGIN:STANDARD
TZOFFSETFROM:+0000
TZOFFSETTO:+0000
TZNAME:UTC
DTSTART:20250101T000000
END:STANDARD
END:VTIMEZONE
BEGIN:VEVENT
DTSTART;VALUE=DATE:20250203
DTEND;VALUE=DATE:20250210
DTSTAMP:20260424T001822
CREATED:20241227T105351Z
LAST-MODIFIED:20241227T105447Z
UID:54519-1738540800-1739145599@eubcboxing.org
SUMMARY:BOXAM INTERNATIONAL ELITE - 2025
DESCRIPTION:ELITE MEN & WOMEN\n\n\n\n  \nInvitation V1 BOXAM ELITE FEB_2025
URL:https://eubcboxing.org/event/boxam-international-elite-2025/
LOCATION:Spain\, La Nucía\, La Nucía\, Spain
CATEGORIES:International Tournaments
END:VEVENT
BEGIN:VEVENT
DTSTART;VALUE=DATE:20250203
DTEND;VALUE=DATE:20250211
DTSTAMP:20260424T001822
CREATED:20241227T202547Z
LAST-MODIFIED:20241227T202547Z
UID:54540-1738540800-1739231999@eubcboxing.org
SUMMARY:62st BELGRADE WINNER  Elite Men and Women Boxing Tournament
DESCRIPTION:Elite Men and Women \nINVITATION – 62 st BELGRADE WINNER – 2025.BEOGRAD – SERBIA
URL:https://eubcboxing.org/event/62st-belgrade-winner-elite-men-and-women-boxing-tournament/
LOCATION:Belgrade\, Serbia
CATEGORIES:International Tournaments
ORGANIZER;CN="BOXING%20FEDERATION%20OF%20SERBIA":MAILTO:box.serbia@gmail.com
END:VEVENT
END:VCALENDAR