BEGIN:VCALENDAR
VERSION:2.0
PRODID:-//EUBC | EUROPEAN BOXING CONFEDERATION - ECPv6.0.12//NONSGML v1.0//EN
CALSCALE:GREGORIAN
METHOD:PUBLISH
X-WR-CALNAME:EUBC | EUROPEAN BOXING CONFEDERATION
X-ORIGINAL-URL:https://eubcboxing.org
X-WR-CALDESC:Events for EUBC | EUROPEAN BOXING CONFEDERATION
REFRESH-INTERVAL;VALUE=DURATION:PT1H
X-Robots-Tag:noindex
X-PUBLISHED-TTL:PT1H
BEGIN:VTIMEZONE
TZID:UTC
BEGIN:STANDARD
TZOFFSETFROM:+0000
TZOFFSETTO:+0000
TZNAME:UTC
DTSTART:20240101T000000
END:STANDARD
END:VTIMEZONE
BEGIN:VEVENT
DTSTART;VALUE=DATE:20240909
DTEND;VALUE=DATE:20240916
DTSTAMP:20260426T013935
CREATED:20231223T202244Z
LAST-MODIFIED:20240627T092425Z
UID:52579-1725840000-1726444799@eubcboxing.org
SUMMARY:International competitions in memory of the Honored Coach of the Republic of Sakha (Yakutia) and the Russian Federation A.I. Pakhomov
DESCRIPTION:JUNIOR MEN
URL:https://eubcboxing.org/event/international-competitions-in-memory-of-the-honored-coach-of-the-republic-of-sakha-yakutia-and-the-russian-federation-a-i-pakhomov/
LOCATION:Yakutsk\, Russia\, Yakutsk\, Russian Federation
CATEGORIES:International Tournaments
END:VEVENT
END:VCALENDAR