BEGIN:VCALENDAR
VERSION:2.0
PRODID:-//EUBC | EUROPEAN BOXING CONFEDERATION - ECPv6.0.12//NONSGML v1.0//EN
CALSCALE:GREGORIAN
METHOD:PUBLISH
X-WR-CALNAME:EUBC | EUROPEAN BOXING CONFEDERATION
X-ORIGINAL-URL:https://eubcboxing.org
X-WR-CALDESC:Events for EUBC | EUROPEAN BOXING CONFEDERATION
REFRESH-INTERVAL;VALUE=DURATION:PT1H
X-Robots-Tag:noindex
X-PUBLISHED-TTL:PT1H
BEGIN:VTIMEZONE
TZID:UTC
BEGIN:STANDARD
TZOFFSETFROM:+0000
TZOFFSETTO:+0000
TZNAME:UTC
DTSTART:20240101T000000
END:STANDARD
END:VTIMEZONE
BEGIN:VEVENT
DTSTART;VALUE=DATE:20240901
DTEND;VALUE=DATE:20240909
DTSTAMP:20260426T030308
CREATED:20231210T105418Z
LAST-MODIFIED:20231223T203431Z
UID:52440-1725148800-1725839999@eubcboxing.org
SUMMARY:XIX International Silesian Women's Boxing Championships
DESCRIPTION:Women: Junior\, Youth\, Elite
URL:https://eubcboxing.org/event/xix-international-silesian-womens-boxing-championships/
LOCATION:Gliwice\, Poland\, Poland
CATEGORIES:International Tournaments
END:VEVENT
BEGIN:VEVENT
DTSTART;VALUE=DATE:20240902
DTEND;VALUE=DATE:20240909
DTSTAMP:20260426T030308
CREATED:20231210T105645Z
LAST-MODIFIED:20231210T105645Z
UID:52444-1725235200-1725839999@eubcboxing.org
SUMMARY:II MEMORIAL ENRIQUE RODRIGUEZ CAL "DACAL"
DESCRIPTION:U22 – Men & Women
URL:https://eubcboxing.org/event/ii-memorial-enrique-rodriguez-cal-dacal/
LOCATION:Spain\, Spain
CATEGORIES:International Tournaments
ORGANIZER;CN="Spanish%20Boxing%20Federation":MAILTO:feboxeo@feboxeo.com
END:VEVENT
BEGIN:VEVENT
DTSTART;VALUE=DATE:20240902
DTEND;VALUE=DATE:20240909
DTSTAMP:20260426T030308
CREATED:20231223T200742Z
LAST-MODIFIED:20240205T174323Z
UID:52572-1725235200-1725839999@eubcboxing.org
SUMMARY:International Boxing Competition in Memory of the First President of the Chechen Republic\, Hero of Russia Akhmat-Hadji Kadyrov
DESCRIPTION:Elite Men
URL:https://eubcboxing.org/event/international-boxing-competition-in-memory-of-the-first-president-of-the-chechen-republic-hero-of-russia-akhmat-hadji-kadyrov/
LOCATION:Gozny\, Russian Federation\, Gozny\, Russian Federation
CATEGORIES:International Tournaments
END:VEVENT
BEGIN:VEVENT
DTSTART;VALUE=DATE:20240903
DTEND;VALUE=DATE:20240909
DTSTAMP:20260426T030308
CREATED:20231210T105805Z
LAST-MODIFIED:20231210T105805Z
UID:52447-1725321600-1725839999@eubcboxing.org
SUMMARY:Moldovian Belt
DESCRIPTION:U22\, Youth\nMen & Women
URL:https://eubcboxing.org/event/moldovian-belt/
LOCATION:Romania\, Romania
CATEGORIES:International Tournaments
END:VEVENT
END:VCALENDAR