BEGIN:VCALENDAR
VERSION:2.0
PRODID:-//EUBC | EUROPEAN BOXING CONFEDERATION - ECPv6.0.12//NONSGML v1.0//EN
CALSCALE:GREGORIAN
METHOD:PUBLISH
X-ORIGINAL-URL:https://eubcboxing.org
X-WR-CALDESC:Events for EUBC | EUROPEAN BOXING CONFEDERATION
REFRESH-INTERVAL;VALUE=DURATION:PT1H
X-Robots-Tag:noindex
X-PUBLISHED-TTL:PT1H
BEGIN:VTIMEZONE
TZID:UTC
BEGIN:STANDARD
TZOFFSETFROM:+0000
TZOFFSETTO:+0000
TZNAME:UTC
DTSTART:20240101T000000
END:STANDARD
END:VTIMEZONE
BEGIN:VEVENT
DTSTART;VALUE=DATE:20240825
DTEND;VALUE=DATE:20240901
DTSTAMP:20260426T030539
CREATED:20231223T200556Z
LAST-MODIFIED:20240408T195346Z
UID:52569-1724544000-1725148799@eubcboxing.org
SUMMARY:International Boxing tournament "Eurasian Dauria Cup" in memory of Boxing veterans of the Russian Federation
DESCRIPTION:Youth Men\, Youth Women
URL:https://eubcboxing.org/event/eurasian-dauria-cup/
LOCATION:Chita\, Russia\, Chita\, Russian Federation
CATEGORIES:International Tournaments
END:VEVENT
END:VCALENDAR