BEGIN:VCALENDAR
VERSION:2.0
PRODID:-//EUBC | EUROPEAN BOXING CONFEDERATION - ECPv6.0.12//NONSGML v1.0//EN
CALSCALE:GREGORIAN
METHOD:PUBLISH
X-ORIGINAL-URL:https://eubcboxing.org
X-WR-CALDESC:Events for EUBC | EUROPEAN BOXING CONFEDERATION
REFRESH-INTERVAL;VALUE=DURATION:PT1H
X-Robots-Tag:noindex
X-PUBLISHED-TTL:PT1H
BEGIN:VTIMEZONE
TZID:UTC
BEGIN:STANDARD
TZOFFSETFROM:+0000
TZOFFSETTO:+0000
TZNAME:UTC
DTSTART:20240101T000000
END:STANDARD
END:VTIMEZONE
BEGIN:VEVENT
DTSTART;VALUE=DATE:20240801
DTEND;VALUE=DATE:20240812
DTSTAMP:20260425T165611
CREATED:20230925T131239Z
LAST-MODIFIED:20240811T024732Z
UID:51803-1722470400-1723420799@eubcboxing.org
SUMMARY:EUBC Schoolboys & Schoolgirls European Boxing Championships 2024
DESCRIPTION:Top List \nRanking by Team \nMedallists by Weight Category \nMedal Standings \nRESULTS \nFinals Results \nSession 27 \nSession 26 \nSession 24 \nSession 23 \nSession 22 \nSession 21 \nSession 20 \nSession 19 \nSession 18 \nSession 17 \nSession 16 \nSession 15 \nSession 14 \nSession 13 \nSession 12 \nSession 11 \nSession 10 \nSession 9 \nSession 8 \nSession 7 \nSession 6 \nSession 5 \nSession 4 \nSession 3 \nSession 2 \nSession 1 \n  \nSCHEDULE \nFinals Schedule \n10.08.2024 \n08.08.2024 \n07.08.2024 \n06.08.2024 \n05.08.2024 \n04.08.2024 \n03.08.2024 \nCompetition Schedule \nDRAW MEN \n90 kg \n75 kg \n70 kg \n66 kg \n63 kg \n60 kg \n57 kg \n54 kg \n52 kg \n50 kg \n48 kg \n46 kg \n44 kg \n42 kg \n40 kg \nDRAW WOMEN \n70 kg \n64 kg \n60 kg \n57 kg \n54 kg \n51 kg \n48 kg \n46 kg \n44 kg \n42 kg \n40 kg \n38 kg \n36 kg \n 
URL:https://eubcboxing.org/event/eubc-schoolboys-and-schoolgirls-european-boxing-championships-2024/
LOCATION:Banya Luka\, Bosnia and Herzegovina
CATEGORIES:EUBC Championships
ORGANIZER;CN="EUBC":MAILTO:eubc.office@gmail.com
END:VEVENT
END:VCALENDAR