BEGIN:VCALENDAR
VERSION:2.0
PRODID:-//EUBC | EUROPEAN BOXING CONFEDERATION - ECPv6.0.12//NONSGML v1.0//EN
CALSCALE:GREGORIAN
METHOD:PUBLISH
X-ORIGINAL-URL:https://eubcboxing.org
X-WR-CALDESC:Events for EUBC | EUROPEAN BOXING CONFEDERATION
REFRESH-INTERVAL;VALUE=DURATION:PT1H
X-Robots-Tag:noindex
X-PUBLISHED-TTL:PT1H
BEGIN:VTIMEZONE
TZID:UTC
BEGIN:STANDARD
TZOFFSETFROM:+0000
TZOFFSETTO:+0000
TZNAME:UTC
DTSTART:20240101T000000
END:STANDARD
END:VTIMEZONE
BEGIN:VEVENT
DTSTART;VALUE=DATE:20240630
DTEND;VALUE=DATE:20240708
DTSTAMP:20260425T152637
CREATED:20231210T104953Z
LAST-MODIFIED:20231223T203025Z
UID:52433-1719705600-1720396799@eubcboxing.org
SUMMARY:XXXIX Feliks Stamm International Boxing Tournament
DESCRIPTION:Elite Men & Women
URL:https://eubcboxing.org/event/xxxix-feliks-stamm-international-boxing-tournament/
LOCATION:Warsaw\, Poland
CATEGORIES:International Tournaments
END:VEVENT
END:VCALENDAR