BEGIN:VCALENDAR
VERSION:2.0
PRODID:-//EUBC | EUROPEAN BOXING CONFEDERATION - ECPv6.0.12//NONSGML v1.0//EN
CALSCALE:GREGORIAN
METHOD:PUBLISH
X-WR-CALNAME:EUBC | EUROPEAN BOXING CONFEDERATION
X-ORIGINAL-URL:https://eubcboxing.org
X-WR-CALDESC:Events for EUBC | EUROPEAN BOXING CONFEDERATION
REFRESH-INTERVAL;VALUE=DURATION:PT1H
X-Robots-Tag:noindex
X-PUBLISHED-TTL:PT1H
BEGIN:VTIMEZONE
TZID:UTC
BEGIN:STANDARD
TZOFFSETFROM:+0000
TZOFFSETTO:+0000
TZNAME:UTC
DTSTART:20240101T000000
END:STANDARD
END:VTIMEZONE
BEGIN:VEVENT
DTSTART;VALUE=DATE:20240621
DTEND;VALUE=DATE:20240704
DTSTAMP:20260425T140338
CREATED:20230925T131106Z
LAST-MODIFIED:20240628T065633Z
UID:51801-1718928000-1720051199@eubcboxing.org
SUMMARY:EUBC Junior Boys & Girls European Boxing Championships\, Sarajevo 2024
DESCRIPTION:RESULTS \nSession 1 \nSession 2 \nSession 3 \nSession 4 \nSession 5 \nSession 6 \nSession 7 \nSession 8 \nSession 9 \nSession 10 \nSession 11 \nSession 12 \nSession 13 \nSession 14 \nSession 15 \nSession 16 \nSession 17 \nSession 18 \nSession 19 \nSession 20 \nSCHEDULE \n28.06.2024 \n27.06.2024 \n26.06.2024 \n25.06.2024 \n24.06.2024 \n23.06.2024 \n  \nCompetition Schedule \n  \nDRAW \nW 46kg \nW 48kg \nW 50kg \nW 52kg \nW 54kg \nW 57kg \nW 60kg \nW 63kg \nW 66kg \nW 70kg \nW 75kg \nW 80kg \nW +80kg \n  \nM 48kg \nM 46k \nM 50kg \nM 52kg \nM 54kg \nM 57kg \nM 60kg \nM 63kg \nM 66kg \nM 70kg \nM 75kg \nM 80kg \nM +80kg \n 
URL:https://eubcboxing.org/event/eubc-junior-boys-and-girls-european-boxing-championships-2024/
LOCATION:Sarajevo\, Bosnia and Herzegovina
CATEGORIES:EUBC Championships
END:VEVENT
END:VCALENDAR