BEGIN:VCALENDAR
VERSION:2.0
PRODID:-//EUBC | EUROPEAN BOXING CONFEDERATION - ECPv6.0.12//NONSGML v1.0//EN
CALSCALE:GREGORIAN
METHOD:PUBLISH
X-ORIGINAL-URL:https://eubcboxing.org
X-WR-CALDESC:Events for EUBC | EUROPEAN BOXING CONFEDERATION
REFRESH-INTERVAL;VALUE=DURATION:PT1H
X-Robots-Tag:noindex
X-PUBLISHED-TTL:PT1H
BEGIN:VTIMEZONE
TZID:UTC
BEGIN:STANDARD
TZOFFSETFROM:+0000
TZOFFSETTO:+0000
TZNAME:UTC
DTSTART:20240101T000000
END:STANDARD
END:VTIMEZONE
BEGIN:VEVENT
DTSTART;VALUE=DATE:20240610
DTEND;VALUE=DATE:20240617
DTSTAMP:20260425T123321
CREATED:20231210T105133Z
LAST-MODIFIED:20240223T194454Z
UID:52435-1717977600-1718582399@eubcboxing.org
SUMMARY:Yerevan Cup
DESCRIPTION:Elite Men & Women \n  \nHandbook_Yerevan Cup 2024 V1_240223_133458
URL:https://eubcboxing.org/event/yerevan-cup/
LOCATION:Yerevan\, Armenia\, Yerevan\, Armenia
CATEGORIES:International Tournaments
END:VEVENT
BEGIN:VEVENT
DTSTART;VALUE=DATE:20240611
DTEND;VALUE=DATE:20240618
DTSTAMP:20260425T123321
CREATED:20231210T103204Z
LAST-MODIFIED:20240508T161728Z
UID:52413-1718064000-1718668799@eubcboxing.org
SUMMARY:Golden Belt
DESCRIPTION:Elite Men & Women \nBoxing-2024-Golden-Belt-Tournament-New-Invitation \n  \nBoxing2024 – Golden Belt Tournament Final Entry
URL:https://eubcboxing.org/event/golden-belt/
LOCATION:Targu Mures\, Romania\, Targu Mures\, Romania
CATEGORIES:International Tournaments
END:VEVENT
END:VCALENDAR