BEGIN:VCALENDAR
VERSION:2.0
PRODID:-//EUBC | EUROPEAN BOXING CONFEDERATION - ECPv6.0.12//NONSGML v1.0//EN
CALSCALE:GREGORIAN
METHOD:PUBLISH
X-ORIGINAL-URL:https://eubcboxing.org
X-WR-CALDESC:Events for EUBC | EUROPEAN BOXING CONFEDERATION
REFRESH-INTERVAL;VALUE=DURATION:PT1H
X-Robots-Tag:noindex
X-PUBLISHED-TTL:PT1H
BEGIN:VTIMEZONE
TZID:UTC
BEGIN:STANDARD
TZOFFSETFROM:+0000
TZOFFSETTO:+0000
TZNAME:UTC
DTSTART:20240101T000000
END:STANDARD
END:VTIMEZONE
BEGIN:VEVENT
DTSTART;VALUE=DATE:20240512
DTEND;VALUE=DATE:20240520
DTSTAMP:20260425T140453
CREATED:20231210T104023Z
LAST-MODIFIED:20240305T185511Z
UID:52420-1715472000-1716163199@eubcboxing.org
SUMMARY:President Heydar Aliyev-Cup 2024
DESCRIPTION:Junior Men
URL:https://eubcboxing.org/event/president-heydar-aliyev-cup-2024/
LOCATION:Baku\, Azerbaijan\, Azerbaijan
CATEGORIES:International Tournaments
END:VEVENT
BEGIN:VEVENT
DTSTART;VALUE=DATE:20240513
DTEND;VALUE=DATE:20240520
DTSTAMP:20260425T140453
CREATED:20231223T200306Z
LAST-MODIFIED:20231223T200401Z
UID:52567-1715558400-1716163199@eubcboxing.org
SUMMARY:Korotkov Memorial Tournament
DESCRIPTION:Elite Men\, Elite Women
URL:https://eubcboxing.org/event/korotkov-memorial-tournament/
LOCATION:Khabarovsk Russia
CATEGORIES:International Tournaments
END:VEVENT
BEGIN:VEVENT
DTSTART;VALUE=DATE:20240518
DTEND;VALUE=DATE:20240520
DTSTAMP:20260425T140453
CREATED:20231210T104754Z
LAST-MODIFIED:20240318T095940Z
UID:52431-1715990400-1716163199@eubcboxing.org
SUMMARY:International Tournament "LAH NIMANI"
DESCRIPTION:Youth Men & Women
URL:https://eubcboxing.org/event/international-tournament-lah-nimani-2/
LOCATION:Prishtina\, Kosova
CATEGORIES:International Tournaments
ORGANIZER;CN="Boxing%20Federation%20of%20Kosovo":MAILTO:fboxk@hotmail.com
END:VEVENT
END:VCALENDAR