BEGIN:VCALENDAR
VERSION:2.0
PRODID:-//EUBC | EUROPEAN BOXING CONFEDERATION - ECPv6.0.12//NONSGML v1.0//EN
CALSCALE:GREGORIAN
METHOD:PUBLISH
X-WR-CALNAME:EUBC | EUROPEAN BOXING CONFEDERATION
X-ORIGINAL-URL:https://eubcboxing.org
X-WR-CALDESC:Events for EUBC | EUROPEAN BOXING CONFEDERATION
REFRESH-INTERVAL;VALUE=DURATION:PT1H
X-Robots-Tag:noindex
X-PUBLISHED-TTL:PT1H
BEGIN:VTIMEZONE
TZID:UTC
BEGIN:STANDARD
TZOFFSETFROM:+0000
TZOFFSETTO:+0000
TZNAME:UTC
DTSTART:20240101T000000
END:STANDARD
END:VTIMEZONE
BEGIN:VEVENT
DTSTART;VALUE=DATE:20240503
DTEND;VALUE=DATE:20240508
DTSTAMP:20260423T071617
CREATED:20231210T104412Z
LAST-MODIFIED:20240505T194440Z
UID:52424-1714694400-1715126399@eubcboxing.org
SUMMARY:Golden Gong International Tournament
DESCRIPTION:Elite Men\, Elite Women \n  \nDAILY SCHEDULE 6 MAY 2024 \nRESULTS DAY 2 \nBOUT LIST 4 MAY 2024 \nROUND ROBIN – women \nROUND ROBIN – men \nBy Weight Categories \nCompetition schedule  \nEntries by country  \n 
URL:https://eubcboxing.org/event/golden-gong-international-tournament/
LOCATION:North Macedonia\, North Macedonia
CATEGORIES:International Tournaments
ORGANIZER;CN="Boxing%20Federation%20of%20North%20Macedonia":MAILTO:bfmboxing@yahoo.com
END:VEVENT
END:VCALENDAR