BEGIN:VCALENDAR
VERSION:2.0
PRODID:-//EUBC | EUROPEAN BOXING CONFEDERATION - ECPv6.0.12//NONSGML v1.0//EN
CALSCALE:GREGORIAN
METHOD:PUBLISH
X-ORIGINAL-URL:https://eubcboxing.org
X-WR-CALDESC:Events for EUBC | EUROPEAN BOXING CONFEDERATION
REFRESH-INTERVAL;VALUE=DURATION:PT1H
X-Robots-Tag:noindex
X-PUBLISHED-TTL:PT1H
BEGIN:VTIMEZONE
TZID:UTC
BEGIN:STANDARD
TZOFFSETFROM:+0000
TZOFFSETTO:+0000
TZNAME:UTC
DTSTART:20240101T000000
END:STANDARD
END:VTIMEZONE
BEGIN:VEVENT
DTSTART;VALUE=DATE:20240328
DTEND;VALUE=DATE:20240401
DTSTAMP:20260423T232331
CREATED:20240223T131058Z
LAST-MODIFIED:20240223T131058Z
UID:53058-1711584000-1711929599@eubcboxing.org
SUMMARY:HBF INTENTION EUPATORIADA TOURNAMENT
DESCRIPTION:invitation 3rd eupatoriada 2024 \nHBF INTENTION EUPATORIADA TOURNAMENT
URL:https://eubcboxing.org/event/hbf-intention-eupatoriada-tournament/
LOCATION:Cordelio\, Greece\, Cordelio\, Greece
CATEGORIES:International Tournaments
END:VEVENT
END:VCALENDAR