BEGIN:VCALENDAR
VERSION:2.0
PRODID:-//EUBC | EUROPEAN BOXING CONFEDERATION - ECPv6.0.12//NONSGML v1.0//EN
CALSCALE:GREGORIAN
METHOD:PUBLISH
X-WR-CALNAME:EUBC | EUROPEAN BOXING CONFEDERATION
X-ORIGINAL-URL:https://eubcboxing.org
X-WR-CALDESC:Events for EUBC | EUROPEAN BOXING CONFEDERATION
REFRESH-INTERVAL;VALUE=DURATION:PT1H
X-Robots-Tag:noindex
X-PUBLISHED-TTL:PT1H
BEGIN:VTIMEZONE
TZID:UTC
BEGIN:STANDARD
TZOFFSETFROM:+0000
TZOFFSETTO:+0000
TZNAME:UTC
DTSTART:20240101T000000
END:STANDARD
END:VTIMEZONE
BEGIN:VEVENT
DTSTART;VALUE=DATE:20240320
DTEND;VALUE=DATE:20240325
DTSTAMP:20260423T071630
CREATED:20231210T104641Z
LAST-MODIFIED:20240102T163910Z
UID:52429-1710892800-1711324799@eubcboxing.org
SUMMARY:XXVIIIth Algirdas Šocikas International boxing tournament
DESCRIPTION:Elite Men & Women \n  \nXXVIII Tournament SOCIKAS INVITATION 2024
URL:https://eubcboxing.org/event/xxviiith-algirdas-socikas-international-boxing-tournament/
LOCATION:Kaunas\, Lithuania
CATEGORIES:International Tournaments
END:VEVENT
BEGIN:VEVENT
DTSTART;VALUE=DATE:20240323
DTEND;VALUE=DATE:20240330
DTSTAMP:20260423T071630
CREATED:20231210T102538Z
LAST-MODIFIED:20240325T082909Z
UID:52405-1711152000-1711756799@eubcboxing.org
SUMMARY:Great Silk Way International Tournament-2024
DESCRIPTION:Elite Men \n  \n  \nRESULTS \nResults Day 1 \n  \nSCHEDULE \nBout List Day 2 \nBout List Day 1 \n  \n——————————————— \n  \nCompetition Schedule \nEntry List by Team \nDraw Sheets Men & Women \nEntry List by Weight Category \n  \n  \nİnvitation GSW_2024 \nEntry_form_GREAT SILK WAY_Baku 2024
URL:https://eubcboxing.org/event/great-silk-way-international-tournament-2024/
LOCATION:Baku\, Azerbaijan\, Azerbaijan
CATEGORIES:International Tournaments
END:VEVENT
END:VCALENDAR