BEGIN:VCALENDAR
VERSION:2.0
PRODID:-//EUBC | EUROPEAN BOXING CONFEDERATION - ECPv6.0.12//NONSGML v1.0//EN
CALSCALE:GREGORIAN
METHOD:PUBLISH
X-WR-CALNAME:EUBC | EUROPEAN BOXING CONFEDERATION
X-ORIGINAL-URL:https://eubcboxing.org
X-WR-CALDESC:Events for EUBC | EUROPEAN BOXING CONFEDERATION
REFRESH-INTERVAL;VALUE=DURATION:PT1H
X-Robots-Tag:noindex
X-PUBLISHED-TTL:PT1H
BEGIN:VTIMEZONE
TZID:UTC
BEGIN:STANDARD
TZOFFSETFROM:+0000
TZOFFSETTO:+0000
TZNAME:UTC
DTSTART:20240101T000000
END:STANDARD
END:VTIMEZONE
BEGIN:VEVENT
DTSTART;VALUE=DATE:20240312
DTEND;VALUE=DATE:20240318
DTSTAMP:20260423T010345
CREATED:20231210T102801Z
LAST-MODIFIED:20240107T151827Z
UID:52409-1710201600-1710719999@eubcboxing.org
SUMMARY:61st  BELGRADE WINNER
DESCRIPTION:Elite Men\, Elite Women \n  \nBoxing2024 – Belgrade Winner Tournament Entry Form INVITATION – 61 st BELGRADE WINNER – 2024 BEOGRAD – SERBIA
URL:https://eubcboxing.org/event/61st-belgrade-winner/
LOCATION:Belgrade\, Serbia
CATEGORIES:International Tournaments
ORGANIZER;CN="BOXING%20FEDERATION%20OF%20SERBIA":MAILTO:box.serbia@gmail.com
END:VEVENT
END:VCALENDAR