BEGIN:VCALENDAR
VERSION:2.0
PRODID:-//EUBC | EUROPEAN BOXING CONFEDERATION - ECPv6.0.12//NONSGML v1.0//EN
CALSCALE:GREGORIAN
METHOD:PUBLISH
X-WR-CALNAME:EUBC | EUROPEAN BOXING CONFEDERATION
X-ORIGINAL-URL:https://eubcboxing.org
X-WR-CALDESC:Events for EUBC | EUROPEAN BOXING CONFEDERATION
REFRESH-INTERVAL;VALUE=DURATION:PT1H
X-Robots-Tag:noindex
X-PUBLISHED-TTL:PT1H
BEGIN:VTIMEZONE
TZID:UTC
BEGIN:STANDARD
TZOFFSETFROM:+0000
TZOFFSETTO:+0000
TZNAME:UTC
DTSTART:20240101T000000
END:STANDARD
END:VTIMEZONE
BEGIN:VEVENT
DTSTART;VALUE=DATE:20240303
DTEND;VALUE=DATE:20240312
DTSTAMP:20260423T071613
CREATED:20231210T102639Z
LAST-MODIFIED:20240307T100838Z
UID:52407-1709424000-1710201599@eubcboxing.org
SUMMARY:YOUTH WORLD BOXING CUP "33rd Adriatic Pearl"
DESCRIPTION:Youth Men\, Youth Women \n  \nRESULTS \nDay 2 \nDay 1 \n  \nSCHEDULE \nDay 3 \nDay 2 \nDay 1 \n  \n  \nDRAW WOMEN \nDRAW MEN \n  \nBoxers by Teams \nBoxers by Category \nCountries \nCompetition Schedule \n  \n  \n  \nOfficial Invitation letter Youth World Boxing Cup Budva 2024
URL:https://eubcboxing.org/event/adriatic-pearl-world-cup/
LOCATION:Budva\, Montenegro\, Montenegro
CATEGORIES:International Tournaments
END:VEVENT
END:VCALENDAR