BEGIN:VCALENDAR
VERSION:2.0
PRODID:-//EUBC | EUROPEAN BOXING CONFEDERATION - ECPv6.0.12//NONSGML v1.0//EN
CALSCALE:GREGORIAN
METHOD:PUBLISH
X-WR-CALNAME:EUBC | EUROPEAN BOXING CONFEDERATION
X-ORIGINAL-URL:https://eubcboxing.org
X-WR-CALDESC:Events for EUBC | EUROPEAN BOXING CONFEDERATION
REFRESH-INTERVAL;VALUE=DURATION:PT1H
X-Robots-Tag:noindex
X-PUBLISHED-TTL:PT1H
BEGIN:VTIMEZONE
TZID:UTC
BEGIN:STANDARD
TZOFFSETFROM:+0000
TZOFFSETTO:+0000
TZNAME:UTC
DTSTART:20240101T000000
END:STANDARD
END:VTIMEZONE
BEGIN:VEVENT
DTSTART;VALUE=DATE:20240218
DTEND;VALUE=DATE:20240229
DTSTAMP:20260422T200702
CREATED:20231210T102240Z
LAST-MODIFIED:20240120T211908Z
UID:52401-1708214400-1709164799@eubcboxing.org
SUMMARY:Elite Men & Women Training Camp
DESCRIPTION:INTERNATIONAL TRAINING CAMP 12-28 February 2024 \nINVITATION – Updated Weight Categories – International Olympic Dreamers Tournament and Training Camp
URL:https://eubcboxing.org/event/elite-men-women-training-camp/
LOCATION:Sarajevo\, Bosnia and Herzegovina
CATEGORIES:International Tournaments
END:VEVENT
END:VCALENDAR