BEGIN:VCALENDAR
VERSION:2.0
PRODID:-//EUBC | EUROPEAN BOXING CONFEDERATION - ECPv6.0.12//NONSGML v1.0//EN
CALSCALE:GREGORIAN
METHOD:PUBLISH
X-WR-CALNAME:EUBC | EUROPEAN BOXING CONFEDERATION
X-ORIGINAL-URL:https://eubcboxing.org
X-WR-CALDESC:Events for EUBC | EUROPEAN BOXING CONFEDERATION
REFRESH-INTERVAL;VALUE=DURATION:PT1H
X-Robots-Tag:noindex
X-PUBLISHED-TTL:PT1H
BEGIN:VTIMEZONE
TZID:UTC
BEGIN:STANDARD
TZOFFSETFROM:+0000
TZOFFSETTO:+0000
TZNAME:UTC
DTSTART:20240101T000000
END:STANDARD
END:VTIMEZONE
BEGIN:VEVENT
DTSTART;VALUE=DATE:20240211
DTEND;VALUE=DATE:20240220
DTSTAMP:20260422T134223
CREATED:20231210T102112Z
LAST-MODIFIED:20240219T152822Z
UID:52398-1707609600-1708387199@eubcboxing.org
SUMMARY:Dracula Open
DESCRIPTION:Junior and Youth \nRanking by Team Youth Men \nRanking by Team Junior Boys \nEntry List by Team Junior Girls \nNumber of Entries by Team Junior Boys \nNumber of Entries by Team Youth Women \nMedal Standings Junior Boys \nEntry List by Weight Category Youth Men \nNumber of Entries by Team Junior Girls \n  \nRESULTS \nSession 12 Youth Men  \nSession 3 Youth Women \nSession 3 Junior Girls \nSession 9 Junior Boys  \nSession 3 Youth women \nSession 2 Youth Girls \nSession 3 junior Girls \nSession 10 Youth Men \nSession 1 Youth Girls \nSession 8 Youth Men \nSession 7 Youth Men \nSession 1 Junior Girls \nSession 6 Junior Boys  \nSession 6 Youth Men  \nSession 2 Youth Women \nSession 5 Youth Men  \nSession 4 Youth Man \nSession 3 Youth Men \nSession 1 Youth Woman \nSession 2 Junior \nSession 2 Youth \nsession 1 Junior \nSession 1 Youth \n  \nSCHEDULE \nSession 3 Youth Girls \nSession 3 junior Girls  \nSemifinals Youth Women \nSemifinals Youth Men \nSession 8 Junior Boys  \nSession 2 Junior Girls \nSession 7 and 8 Youth Man  \nSession 6 Youth Man \nSession 2 Woman  \nSession 3 and 4 Youth \nSession 3 and 4 Junior \nSession 1 and 2 Youth \nSession 1 and 2 Junior \n  \n  \ncompetition schedule – youth \ncompetition schedule – junior \n  \nDraw Junior Men \n63 \n66 \n50 \n57 \n70 \n80 \n46 \n48 \n52 \n75 \n54 \n60 \n+80 \n  \nDraw Junior Women \n75 \n52 \n70 \n54 \n80 \n57 \n50 \n48 \n63 \n  \nDraw Youth Men \n71 \n+92 \n48 \n86 \n64 \n67 \n54 \n92 \n51 \n60 \n80 \n75 \nDraw Youth Women \n63 \n81 \n66 \n50 \n57 \n52 \n60 \n75 \n70 \n+81 \n54 \n48 \n  \n  \n  \nDRACULA-Open-Preliminary-Entry-Form 2024 DRACULA OPEN-2024-Invitation DRACULA-Open-Final-Entry-Form 2024
URL:https://eubcboxing.org/event/dracula-open/
LOCATION:Romania\, Romania
CATEGORIES:International Tournaments
END:VEVENT
BEGIN:VEVENT
DTSTART;VALUE=DATE:20240212
DTEND;VALUE=DATE:20240218
DTSTAMP:20260422T134223
CREATED:20231210T101934Z
LAST-MODIFIED:20240219T151757Z
UID:52396-1707696000-1708214399@eubcboxing.org
SUMMARY:"Olympic Dreamer" Elite Men and Women International Boxing Tournament
DESCRIPTION:Elite Men\, Elite Women \nEUBC International Tournaments – TD Report OLYMPIC DREAMER – BiH \n“OLYMPIC DREAMER” BOXING TOURNAMENT SPECIAL AWARDS \nRESULTS \nDAY 3 \nDAY 2 \nDAY 1 \n  \nSCHEDULE \nDAY 3 \nDAY 2 \n  \nDRAW \n92 kg ELITE MAN 54 kg ELITE WOMEN 66 kg ELITE WOMEN 80 kg ELITE MAN 50 kg ELITE WOMEN 57 kg ELITE WOMEN 57 kg ELITE MAN 51 kg ELITE MAN 71 kg ELITE MAN 60 kg ELITE WOMEN 75 kg ELITE MAN 86 kg ELITE MAN 63.5 kg ELITE MAN \n  \nSCHADULE – Olympic Dreamer International Tournament and Training Camp 12-28 February 2024 INTERNATIONAL TRAINING CAMP 12-28 February 2024 INVITATION – Updated Weight Categories – International Olympic Dreamers Tournament and Training Camp Olympic Dreamer- Final Entry Form 12-28 FEBRUARY 2024 Travel Details Form – Olympic Dreamer Elite Men and Women International Boxing Tournament 12-28 February 2024 \n 
URL:https://eubcboxing.org/event/olympic-dreamer-elite-men-and-women-international-boxing-tournament/
LOCATION:Saraevo\, Bosnia and Herzegovina
CATEGORIES:International Tournaments
ORGANIZER;CN="Boxing%20Association%20of%20Bosnia%20and%20Herzegovina":MAILTO:bokserski.klub.sarajevo@gmail.com
END:VEVENT
END:VCALENDAR