BEGIN:VCALENDAR
VERSION:2.0
PRODID:-//EUBC | EUROPEAN BOXING CONFEDERATION - ECPv6.0.12//NONSGML v1.0//EN
CALSCALE:GREGORIAN
METHOD:PUBLISH
X-WR-CALNAME:EUBC | EUROPEAN BOXING CONFEDERATION
X-ORIGINAL-URL:https://eubcboxing.org
X-WR-CALDESC:Events for EUBC | EUROPEAN BOXING CONFEDERATION
REFRESH-INTERVAL;VALUE=DURATION:PT1H
X-Robots-Tag:noindex
X-PUBLISHED-TTL:PT1H
BEGIN:VTIMEZONE
TZID:UTC
BEGIN:STANDARD
TZOFFSETFROM:+0000
TZOFFSETTO:+0000
TZNAME:UTC
DTSTART:20240101T000000
END:STANDARD
END:VTIMEZONE
BEGIN:VEVENT
DTSTART;VALUE=DATE:20240202
DTEND;VALUE=DATE:20240213
DTSTAMP:20260423T010336
CREATED:20231210T101729Z
LAST-MODIFIED:20240212T192328Z
UID:52394-1706832000-1707782399@eubcboxing.org
SUMMARY:75th International Boxing Tournament STRANDJA
DESCRIPTION:Elite Men\, Elite Women \n  \n  \nRESULTS \nSession 28 \nSession 27 \nSession 26 \nSession 25 \nSession 24 \nSession 23 \nSession 22 \nSession 21 \nSession 20 \nSession 19 \nSession 18 \nSession 17 \nSession 16 \nSession 15 \nSession 14 \nSession 13 \nSession 12 \nSession 11 \nSession 10 \nSession 9 \nSession 8 \nSession 7 \nSession 6 \nSession 5 \nSession 4 \nSession 3 \nSession 2 \nSession 1 \n  \nSCHEDULE \nDAY 8 \nDAY 7 \nDAY 6 \nDAY 5 \nDAY 4 \nDAY 3 \nDAY 2 \nDAY 1 \n  \nCompetition schedule \n  \n  \nDraw Sheets Men \nDraw Sheets Women \n  \nEntry List by Weight Category \nNumber of Entries by Team \n 
URL:https://eubcboxing.org/event/75th-international-boxing-tournament-strandja/
LOCATION:Sofia\, Bulgaria\, Sofia\, Bulgaria
CATEGORIES:International Tournaments
ORGANIZER;CN="BULGARIAN%20BOXING%20FEDERATION":MAILTO:strandja2024@gmail.com
END:VEVENT
END:VCALENDAR