BEGIN:VCALENDAR
VERSION:2.0
PRODID:-//EUBC | EUROPEAN BOXING CONFEDERATION - ECPv6.0.12//NONSGML v1.0//EN
CALSCALE:GREGORIAN
METHOD:PUBLISH
X-WR-CALNAME:EUBC | EUROPEAN BOXING CONFEDERATION
X-ORIGINAL-URL:https://eubcboxing.org
X-WR-CALDESC:Events for EUBC | EUROPEAN BOXING CONFEDERATION
REFRESH-INTERVAL;VALUE=DURATION:PT1H
X-Robots-Tag:noindex
X-PUBLISHED-TTL:PT1H
BEGIN:VTIMEZONE
TZID:UTC
BEGIN:STANDARD
TZOFFSETFROM:+0000
TZOFFSETTO:+0000
TZNAME:UTC
DTSTART:20230101T000000
END:STANDARD
END:VTIMEZONE
BEGIN:VEVENT
DTSTART;VALUE=DATE:20231118
DTEND;VALUE=DATE:20231125
DTSTAMP:20260422T104226
CREATED:20230424T002755Z
LAST-MODIFIED:20231119T214429Z
UID:50243-1700265600-1700870399@eubcboxing.org
SUMMARY:International Tournament named after V.Liventsev
DESCRIPTION:International boxing tournament of memory V.I.Livenceva 2023 – All documents 
URL:https://eubcboxing.org/event/international-tournament-named-after-v-liventsev-2/
LOCATION:Minsk\, Belarus\, Belarus
CATEGORIES:International Tournaments
END:VEVENT
END:VCALENDAR