BEGIN:VCALENDAR
VERSION:2.0
PRODID:-//EUBC | EUROPEAN BOXING CONFEDERATION - ECPv6.0.12//NONSGML v1.0//EN
CALSCALE:GREGORIAN
METHOD:PUBLISH
X-ORIGINAL-URL:https://eubcboxing.org
X-WR-CALDESC:Events for EUBC | EUROPEAN BOXING CONFEDERATION
REFRESH-INTERVAL;VALUE=DURATION:PT1H
X-Robots-Tag:noindex
X-PUBLISHED-TTL:PT1H
BEGIN:VTIMEZONE
TZID:UTC
BEGIN:STANDARD
TZOFFSETFROM:+0000
TZOFFSETTO:+0000
TZNAME:UTC
DTSTART:20230101T000000
END:STANDARD
END:VTIMEZONE
BEGIN:VEVENT
DTSTART;VALUE=DATE:20231110
DTEND;VALUE=DATE:20231121
DTSTAMP:20260422T061927
CREATED:20230424T000552Z
LAST-MODIFIED:20231122T090424Z
UID:50237-1699574400-1700524799@eubcboxing.org
SUMMARY:EUBC U22 European Boxing Championships
DESCRIPTION:Ranking by Team \nTop List \nMedal Standings \nMedallists by Weight Category \nTournament Statistics \nFinals Results \nReferees and Judges \n  \nDAILY RESULTS \nSESSION 24 \nSESSION 23 \nSESSION 22 \nSESSION 21 \nSESSION 20 \nSESSION 19 \nSESSION 18 \nSESSION 17 \nSESSION 16 \nSESSION 15 \nSESSION 14 \nSESSION 13 \nSESSION 12 \nSESSION 11 \nSESSION 10 \nSESSION 9 \nSESSION 8 \nSESSION 7 \nSESSION 6 \nSESSION 5 \nSESSION 4 \nSESSION 3 \nSESSION 2 \nSESSION 1 \n  \nDAILY SCHEDULE \n19.11.2023 \n17.11.2023 \n16.11.2023 \n15.11.2023 \n14.11.2023 \n13.11.2023 \n12.11.2033 \n  \nDRAW SHEETS MEN \nDRAW SHEETS WOMEN \n  \nCompetition schedule \nEntry List by Weight Category \nEntry List by Team \nNumber of Entries by Team \n  \n  \n  \nU22 Championships 2023 – Team Delegation Handbook
URL:https://eubcboxing.org/event/eubc-u22-european-boxing-championships-3/
LOCATION:Budva\, Montenegro\, Montenegro
CATEGORIES:EUBC Championships
END:VEVENT
BEGIN:VEVENT
DTSTART;VALUE=DATE:20231113
DTEND;VALUE=DATE:20231120
DTSTAMP:20260422T061927
CREATED:20230721T131956Z
LAST-MODIFIED:20231119T193529Z
UID:51137-1699833600-1700438399@eubcboxing.org
SUMMARY:INTERNATIONAL BOXING TOURNAMENT BOXAM ELITE 2023
DESCRIPTION:Final Draw Sheets – Boxam Elite 2023 \nMedal Standings – Boxam Elite 2023 \nMedallists By Weight Categorie – Boxam Elite 2023 \nTop List – Boxam Elite 2023 \n  \nDAILY RESULTS \nSession 5 Men Finals Results – Boxam Elite 2023 \nSession results Day 5 \nSession results Day 4 \nSession results Day 3 \nSesion Results Day 2 \nSesion Results Day 1 \nDAILY SCHEDULE \nSESSION 5 \nSESSION 4 \nSESSION 3 \nSESSION 2 \nSESSION 1 \n  \nBoxam Eliete 2024 Draw all categories \n  \nInvitation_INTERNATIONAL BOXING TOURNAMENT BOXAM ELITE 2023 V4 \nFinal form BOXAM ELITE 2023 \nPreliminary form BOXAM ELITE 2023
URL:https://eubcboxing.org/event/international-boxing-tournament-boxam-elite-2023/
LOCATION:Alicante\, Spain\, Alicante\, Spain
CATEGORIES:International Tournaments
ORGANIZER;CN="Spanish%20Boxing%20Federation":MAILTO:feboxeo@feboxeo.com
END:VEVENT
END:VCALENDAR