BEGIN:VCALENDAR
VERSION:2.0
PRODID:-//EUBC | EUROPEAN BOXING CONFEDERATION - ECPv6.0.12//NONSGML v1.0//EN
CALSCALE:GREGORIAN
METHOD:PUBLISH
X-ORIGINAL-URL:https://eubcboxing.org
X-WR-CALDESC:Events for EUBC | EUROPEAN BOXING CONFEDERATION
REFRESH-INTERVAL;VALUE=DURATION:PT1H
X-Robots-Tag:noindex
X-PUBLISHED-TTL:PT1H
BEGIN:VTIMEZONE
TZID:UTC
BEGIN:STANDARD
TZOFFSETFROM:+0000
TZOFFSETTO:+0000
TZNAME:UTC
DTSTART:20230101T000000
END:STANDARD
END:VTIMEZONE
BEGIN:VEVENT
DTSTART;VALUE=DATE:20231103
DTEND;VALUE=DATE:20231107
DTSTAMP:20260422T090951
CREATED:20230424T002540Z
LAST-MODIFIED:20231107T140126Z
UID:50241-1698969600-1699315199@eubcboxing.org
SUMMARY:International Boxing Tournament “Adem Jashari”
DESCRIPTION:DAILY RESULTS \n \n \n  \nDAILY SCHEDULE \n \n \n  \n  \n  \nFTESA ADEM JASHARI 2023 – FINALE 2  \nFTESA ADEM JASHARI 2023 – FINALE (1) FTESA ADEM JASHARI 2023 – FINALE
URL:https://eubcboxing.org/event/international-boxing-tournament-adem-jashari-3/
LOCATION:Pristina\, Kosovo
CATEGORIES:International Tournaments
ORGANIZER;CN="Boxing%20Federation%20of%20Kosovo":MAILTO:fboxk@hotmail.com
END:VEVENT
END:VCALENDAR