BEGIN:VCALENDAR
VERSION:2.0
PRODID:-//EUBC | EUROPEAN BOXING CONFEDERATION - ECPv6.0.12//NONSGML v1.0//EN
CALSCALE:GREGORIAN
METHOD:PUBLISH
X-ORIGINAL-URL:https://eubcboxing.org
X-WR-CALDESC:Events for EUBC | EUROPEAN BOXING CONFEDERATION
REFRESH-INTERVAL;VALUE=DURATION:PT1H
X-Robots-Tag:noindex
X-PUBLISHED-TTL:PT1H
BEGIN:VTIMEZONE
TZID:UTC
BEGIN:STANDARD
TZOFFSETFROM:+0000
TZOFFSETTO:+0000
TZNAME:UTC
DTSTART:20230101T000000
END:STANDARD
END:VTIMEZONE
BEGIN:VEVENT
DTSTART;VALUE=DATE:20231018
DTEND;VALUE=DATE:20231030
DTSTAMP:20260422T090932
CREATED:20230602T104004Z
LAST-MODIFIED:20231101T091208Z
UID:50935-1697587200-1698623999@eubcboxing.org
SUMMARY:EUBC Balkan Junior and Youth Championships
DESCRIPTION:Youth Women Ranking by Team \n Youth Women Number of Entries by Team \nYouth Men Ranking by Team \nYouth Men Number of Entries by Team \nJunior Women Ranking by Team \nJunior Women Number of Entries by Team \nJunior Men Ranking by Teamby \nJunior Men Number of Entries by Team \n  \nDAILY RESULTS \n28.10.2023 \n27.10.2023 \n26.10.2023 part.2 \n26.10.2023 part. 1 \n25.10.2023 part.3 \n25.10.2023 part.2 \n25.10.2023 part.1 \n23.10.2023 \n22.10.2023 \n21.10.2023 \n  \nDAILY SCHEDULE \n28.10.2023 \n27.10.2023 \n26.10.2023 \n25.10.2023 \n23.10.2023 \n22.10.2023 \n21.10.2023 \n  \n\n  \nCOMPETITION SCHEDULE \n  \nDRAW SHEETS – YOUTH MEN \nDRAW SHEETS – YOUTH WOMEN \nDRAW SHEETS – JUNIOR MEN \nDRAW SHEETS – JUNIOR WOMEN \n  \n\n  \nNUMBER ENTRIES BY TEAM – YOUTH MEN \nNUMBER ENTRIES BY TEAM – JUNIOR MEN \nNUMBER ENTRIES BY TEAM – YOUTH WOMEN \nNUMBER ENTRIES BY TEAM – JUNIOR WOMEN \n 
URL:https://eubcboxing.org/event/eubc-balkan-junior-and-youth-championships/
LOCATION:Râmnicu Vâlcea\, Romania\, Râmnicu Vâlcea\, Romania
CATEGORIES:EUBC Championships
END:VEVENT
BEGIN:VEVENT
DTSTART;VALUE=DATE:20231025
DTEND;VALUE=DATE:20231030
DTSTAMP:20260422T090932
CREATED:20230424T000441Z
LAST-MODIFIED:20231102T100736Z
UID:50235-1698192000-1698623999@eubcboxing.org
SUMMARY:Zagreb Open
DESCRIPTION:  \nTEAM STANDINGS ZAGREB OPEN \n  \nDAILY RESULTS \nSESSION 5 \nSESSION 4 \nSESSION 3 \nSESSION 2 \nSESSION 1 \nDAILY SCHEDILE \n29.10.2023 \n28.10.2023 \n27.10.2023 \n  \nentry list by weight category \n  \n  \n  \nregistration form – 12. Zg Open_2023 12. Zagreb open INVITATION
URL:https://eubcboxing.org/event/zagreb-open-2/
LOCATION:Zagreb\, Croatia\, Croatia (Local Name: Hrvatska)
CATEGORIES:International Tournaments
ORGANIZER;CN="Zagreb%20Boxing%20Association":MAILTO:zgboks@zgboks.hr
END:VEVENT
END:VCALENDAR