BEGIN:VCALENDAR
VERSION:2.0
PRODID:-//EUBC | EUROPEAN BOXING CONFEDERATION - ECPv6.0.12//NONSGML v1.0//EN
CALSCALE:GREGORIAN
METHOD:PUBLISH
X-WR-CALNAME:EUBC | EUROPEAN BOXING CONFEDERATION
X-ORIGINAL-URL:https://eubcboxing.org
X-WR-CALDESC:Events for EUBC | EUROPEAN BOXING CONFEDERATION
REFRESH-INTERVAL;VALUE=DURATION:PT1H
X-Robots-Tag:noindex
X-PUBLISHED-TTL:PT1H
BEGIN:VTIMEZONE
TZID:UTC
BEGIN:STANDARD
TZOFFSETFROM:+0000
TZOFFSETTO:+0000
TZNAME:UTC
DTSTART:20230101T000000
END:STANDARD
END:VTIMEZONE
BEGIN:VEVENT
DTSTART;VALUE=DATE:20231005
DTEND;VALUE=DATE:20231009
DTSTAMP:20260422T104234
CREATED:20230711T130402Z
LAST-MODIFIED:20231009T200322Z
UID:51038-1696464000-1696809599@eubcboxing.org
SUMMARY:SARAJEVO TROPHY TOURNAMENT (Junior\, Youth - Men and Women)
DESCRIPTION:MEDALLISTS BY WEIGHT CATEGORY NUMBER OF ENTRIES BY TEAM ALL DAILY SCHEDULE ALL DAILY RESULTS \n  \n\n  \nDRAW SHEETS M&W JUNIOR DRAW SHEETS M&W YOUTH \n  \n\n  \n  \ne-mail: bokserski.klub.sarajevo@gmail.com \nPhone: +387 62 990 583 and +387 61 303 464 \n\n  \nSarajevo Trophy Invitation  \nSarajevo Trophy Registration Form \n  \n 
URL:https://eubcboxing.org/event/sarajevo-trophy-tournament-2/
LOCATION:Sarajevo\, Bosnia and Herzegovina
CATEGORIES:International Tournaments
END:VEVENT
BEGIN:VEVENT
DTSTART;VALUE=DATE:20231006
DTEND;VALUE=DATE:20231016
DTSTAMP:20260422T104234
CREATED:20230728T132629Z
LAST-MODIFIED:20231016T054310Z
UID:51212-1696550400-1697414399@eubcboxing.org
SUMMARY:EUBC ELITE MEN BOXING CUP 2023
DESCRIPTION:DAILY RESULTS \n14.10.2023 – FINALS \n13.10.2023 – 2 \n13.10.2023 – 1 \n12.10.2023 – 2 \n12.10.2023 – 1 \n11.10.2023 – 2 \n11.10.2023 – 1 \n10.10.2023 – 2 \n10.10.2023 – 1 \n09.10.2023 – 2 \n09.10.2023 -1 \n08.10.2023 \n  \nDAILY SCHEDULE \n14.10.2023 \n13.10.2023 \n12.10.2023 \n11.10.2023 \n10.10.2023 \n09.10.2023 \n08.10.2023 \n  \n\n  \nCOMPETITION SCHEDULE \nDRAW SHEETS \n  \n\n  \nTeam Delegations Handbook-EUBC Cup_Budva_2023 20230911_NFs_Invitation to EUBC Cup 2023 \n20230728-NFs-Invitation to the EUBC Elite Men Boxing Cup 2023
URL:https://eubcboxing.org/event/eubc-elite-men-boxing-cup-2023/
LOCATION:Budva\, Montenegro\, Montenegro
CATEGORIES:EUBC Championships,International Tournaments
END:VEVENT
END:VCALENDAR