BEGIN:VCALENDAR
VERSION:2.0
PRODID:-//EUBC | EUROPEAN BOXING CONFEDERATION - ECPv6.0.12//NONSGML v1.0//EN
CALSCALE:GREGORIAN
METHOD:PUBLISH
X-WR-CALNAME:EUBC | EUROPEAN BOXING CONFEDERATION
X-ORIGINAL-URL:https://eubcboxing.org
X-WR-CALDESC:Events for EUBC | EUROPEAN BOXING CONFEDERATION
REFRESH-INTERVAL;VALUE=DURATION:PT1H
X-Robots-Tag:noindex
X-PUBLISHED-TTL:PT1H
BEGIN:VTIMEZONE
TZID:UTC
BEGIN:STANDARD
TZOFFSETFROM:+0000
TZOFFSETTO:+0000
TZNAME:UTC
DTSTART:20230101T000000
END:STANDARD
END:VTIMEZONE
BEGIN:VEVENT
DTSTART;VALUE=DATE:20230925
DTEND;VALUE=DATE:20231005
DTSTAMP:20260422T061648
CREATED:20230423T235801Z
LAST-MODIFIED:20231004T210115Z
UID:50225-1695600000-1696463999@eubcboxing.org
SUMMARY:EUBC Balkan Elite Men & Women Championships
DESCRIPTION:MEDALISTS BY WEIGHT CATEGORY \nMEDAL STANDINGS \nRANKING BY TEAM \nFINALS RESULTS \nTOP LIST \nDAILY RESULTS \n03.10.2023 \n02.10.2023 \n30.09.2023 \n29.09.2023 \n28.09.2023 \n27.09.2023 \n  \nDAILY SCHEDULE \n03.10.2023 \n02.10.2023 \n30.09.2023 \n29.09.2023 \n28.09.2023 \n27.09.2023 \n  \nDRAW SHEETS \nDRAW SHEETS WOMEN DRAW SHEETS MEN \n  \n\n  \nCompetition Schedule Women \nCompetition Schedule Men
URL:https://eubcboxing.org/event/eubc-balkan-elite-men-women-championships/
LOCATION:Albena\, Bulgaria\, Albena\, Bulgaria
CATEGORIES:EUBC Championships
END:VEVENT
END:VCALENDAR