BEGIN:VCALENDAR
VERSION:2.0
PRODID:-//EUBC | EUROPEAN BOXING CONFEDERATION - ECPv6.0.12//NONSGML v1.0//EN
CALSCALE:GREGORIAN
METHOD:PUBLISH
X-WR-CALNAME:EUBC | EUROPEAN BOXING CONFEDERATION
X-ORIGINAL-URL:https://eubcboxing.org
X-WR-CALDESC:Events for EUBC | EUROPEAN BOXING CONFEDERATION
REFRESH-INTERVAL;VALUE=DURATION:PT1H
X-Robots-Tag:noindex
X-PUBLISHED-TTL:PT1H
BEGIN:VTIMEZONE
TZID:UTC
BEGIN:STANDARD
TZOFFSETFROM:+0000
TZOFFSETTO:+0000
TZNAME:UTC
DTSTART:20230101T000000
END:STANDARD
END:VTIMEZONE
BEGIN:VEVENT
DTSTART;VALUE=DATE:20230911
DTEND;VALUE=DATE:20230918
DTSTAMP:20260422T031053
CREATED:20230423T234910Z
LAST-MODIFIED:20230917T182042Z
UID:50212-1694390400-1694995199@eubcboxing.org
SUMMARY:International Boxing Tournament “Umakhanov Memorial” (Elite Men)
DESCRIPTION:DRAW SHEETS – RESULTS \nNumber of Entries by Team \nMedallists by Weight Category \nDAILY RESULTS \n15.09.2023 \n14.09.2023 \n13.09.2023 \n12.09.2023 \nDAILY SCHEDULE \n15.09.2023 \n14.09.2023 \n13.09.2023 \n12.09.2023 \n  \n\n  \nCompetition Schedule \nNumber of Entries by Team \nEntry List by Weight Category \nDRAW SHEETS \n51KG 54KG 57KG 60KG 67KG 71KG 75KG 80KG 86KG 92KG +92KG \n 
URL:https://eubcboxing.org/event/international-boxing-tournament-umakhanov-memorial-2/
LOCATION:Kaspiysk\, Russia\, Russian Federation
CATEGORIES:International Tournaments
END:VEVENT
BEGIN:VEVENT
DTSTART;VALUE=DATE:20230912
DTEND;VALUE=DATE:20230918
DTSTAMP:20260422T031053
CREATED:20230423T235150Z
LAST-MODIFIED:20231016T111651Z
UID:50216-1694476800-1694995199@eubcboxing.org
SUMMARY:International Tournament “Vasilis Topalos Cup” (Youth\, Elite - Men and Women)
DESCRIPTION:MEDALLIST  \nCOMPETITION OFFICIAL \nRESULTS PER DAY \nROUND ROBIN POINTS LIST \n  \nDRAW SHEETS 60kg M \nDRAW SHEETS 60kg W \nDRAW SHEETS 66kg W \n  \nDAILY RESULTS \nSESSION 5 \nSESSION 4 \nSESSION 3 \nSESSION 2 \nSESSION 1 \nDAILY SCHEDULE \nSCHEDULE 17.09.2023 \nSCHEDULE 16.09.2023 \nSCHEDULE 15.09.2023 \nSCHEDULE 14.09.2023 \nSCHEDULE – 13.09.2023 \n  \nDRAW SHEETS \n  \n\nROUND ROBIN LIST EVENT PLAN ROUND ROBIN LIST \n  \nENTRY LIST BY TEAM –  ELITE WOMEN \nENTRY LIST BY TEAM – YOUTH WOMEN \nENTRY LIST BY TEAM – YOUTH MEN \nENTRY LIST BY TEAM – ELITE MEN \n\n  \nTeam Delegation Handbook VASILIS TOPALOS CUP travel_detail_VASILIS TOPALOS CUP room_detail_ VASILIS TOPALOS CUP VISA SUPPORT LETTER entry_list_VASILIS TOPALOS CUP
URL:https://eubcboxing.org/event/international-tournament-vasilis-topalos-cup/
LOCATION:Athens\, Greece\, Athens\, Greece
CATEGORIES:International Tournaments
END:VEVENT
BEGIN:VEVENT
DTSTART;VALUE=DATE:20230917
DTEND;VALUE=DATE:20230925
DTSTAMP:20260422T031053
CREATED:20230423T235311Z
LAST-MODIFIED:20230925T101313Z
UID:50218-1694908800-1695599999@eubcboxing.org
SUMMARY:XI Leszek Drogosz Memorial International Boxing Tournament
DESCRIPTION:Round Robin results 23.09.2023 Drogosz Tournament summary \nDAILY RESULTS \n21.09.2023  \n20.09.2023 \n19.09.2023 \nDAILY SCHEDULE \n22.09.2023 \n21.09.2023 \n20.092023 \n19.09.2023 \n  \nRound Robin Women \nRound Robin Men \n  \nDraw sheets Drogosz Tournament 2023 \nCompetition schedule – Kielce 2023 \n  \n\n  \nInvitation LESZEK DROGOSZ 2023 \nRegistration Accommodation and Travel Form – XI Drogosz Memorial 2023 Visa request – XI LESZEK DROGOSZ MEMORIAL2023
URL:https://eubcboxing.org/event/xi-leszek-drogosz-memorial-international-boxing-tournament-2/
LOCATION:Kielce\, Poland\, Poland
CATEGORIES:International Tournaments
END:VEVENT
END:VCALENDAR