BEGIN:VCALENDAR
VERSION:2.0
PRODID:-//EUBC | EUROPEAN BOXING CONFEDERATION - ECPv6.0.12//NONSGML v1.0//EN
CALSCALE:GREGORIAN
METHOD:PUBLISH
X-ORIGINAL-URL:https://eubcboxing.org
X-WR-CALDESC:Events for EUBC | EUROPEAN BOXING CONFEDERATION
REFRESH-INTERVAL;VALUE=DURATION:PT1H
X-Robots-Tag:noindex
X-PUBLISHED-TTL:PT1H
BEGIN:VTIMEZONE
TZID:UTC
BEGIN:STANDARD
TZOFFSETFROM:+0000
TZOFFSETTO:+0000
TZNAME:UTC
DTSTART:20230101T000000
END:STANDARD
END:VTIMEZONE
BEGIN:VEVENT
DTSTART;VALUE=DATE:20230815
DTEND;VALUE=DATE:20230827
DTSTAMP:20260421T233950
CREATED:20230423T234245Z
LAST-MODIFIED:20230826T081048Z
UID:50201-1692057600-1693094399@eubcboxing.org
SUMMARY:EUBC Schoolboys & Schoolgirls European Boxing Championships
DESCRIPTION:Medallists by Weight Category \nTOP LIST \nFINALS RESULTS \n  \nDAILY RESULTS \nRESULTS – FINALS DAY (25.08.2023) \nRESULTS – SESSION 7 (23.08.2023) \nRESULTS – SESSION 6 (22.08.2023) \nRESULTS – SESSION 5 (21.08.2023) \nRESULTS – SESSION 4 (20.08.2023) \nRESULTS – SESSION 3 (19.08.2023) \nRESULTS – SESSION 2 (18.08.2023) \nRESULTS – SESSION 1 (17.08.2023) \nDAILY SCHEDULE \nSCHEDULE – SESSION 9 (25.08.2023) \nSCHEDULE – SESSION 7 (23.08.2023) \nSCHEDULE – SESSION 6 (22.08.2023) \nSCHEDULE – SESSION 5 (21.08.2023) \nSCHEDULE – SESSION 4 (20.08.2023) \nSCHEDULE – SESSION 3 (19.08.2023) \nSCHEDULE – SESSION 2 (18.08.2023) \nSCHEDULE – SESSION 1 (17.08.2023) \n  \n\n  \nNumber of Entries by Team \nDRAW SHEETS \nCOMPETITION SCHEDULE \n\n  \nVersion 1 – Team Delegation Handbook – EUBC Schoolboys and Schoolgirls Championships_Maribor_ 2023 Version 2 – Team Delegation Handbook – EUBC Schoolboys and Schoolgirls Championships_Maribor_ 2023 Version 3 – Team Delegation Handbook – EUBC Schoolboys and Schoolgirls Championships_Maribor_ 2023
URL:https://eubcboxing.org/event/eubc-schoolboys-schoolgirls-european-boxing-championships-4/
LOCATION:Maribor\, Slovenia
CATEGORIES:EUBC Championships
END:VEVENT
BEGIN:VEVENT
DTSTART;VALUE=DATE:20230821
DTEND;VALUE=DATE:20230828
DTSTAMP:20260421T233950
CREATED:20230423T234501Z
LAST-MODIFIED:20230829T083912Z
UID:50203-1692576000-1693180799@eubcboxing.org
SUMMARY:41st GOLDEN GLOVE of VOJVODINA 2023 SUBOTICA – SERBIA (Youth - Men and Women)
DESCRIPTION:Finals Results \nRanking by Team \nMedal Standings \nMedalists by Weight Category \n  \nDAILY RESULTS \nFinals Results \n3rd Day Results \n2nd Day Results \n1st Day Results \n  \nDAILY SCHEDULE \n4th day Daily Schedule \n3rd Day Daily Schedule \n2nd Day Daily Schedule \n1st Day Daily Schedule \n  \nDRAW SHEETS \nDRAW SHEETS MEN \nDRAW SHEETS WOMEN \n  \n\n  \nCompetition Schedule \nEntry List by Team \nEntrt List b Weight Category \n  \n\n  \nEntry-From-Youth-Boys-Golden-Gloves-of-Vojvodina-Youth-Tournament-2023-SUBOTICA-SERBIA Entry-From-Youth-Girls-Golden-Gloves-of-Vojvodina-Youth-Tournament-2023-SUBOTICA-SERBIA-5 INVITATION-41-th-GOLDEN-GLOVE-of-VOJVODINA-2023-SUBOTICA-SERBIA-1
URL:https://eubcboxing.org/event/41st-golden-glove-of-vojvodina-2023-subotica-serbia/
LOCATION:Subotica\, Serbia\, Serbia
CATEGORIES:International Tournaments
ORGANIZER;CN="Serbian%20Boxing%20Federation":MAILTO:nations.cup.junior@gmail.com
END:VEVENT
END:VCALENDAR