BEGIN:VCALENDAR
VERSION:2.0
PRODID:-//EUBC | EUROPEAN BOXING CONFEDERATION - ECPv6.0.12//NONSGML v1.0//EN
CALSCALE:GREGORIAN
METHOD:PUBLISH
X-WR-CALNAME:EUBC | EUROPEAN BOXING CONFEDERATION
X-ORIGINAL-URL:https://eubcboxing.org
X-WR-CALDESC:Events for EUBC | EUROPEAN BOXING CONFEDERATION
REFRESH-INTERVAL;VALUE=DURATION:PT1H
X-Robots-Tag:noindex
X-PUBLISHED-TTL:PT1H
BEGIN:VTIMEZONE
TZID:UTC
BEGIN:STANDARD
TZOFFSETFROM:+0000
TZOFFSETTO:+0000
TZNAME:UTC
DTSTART:20230101T000000
END:STANDARD
END:VTIMEZONE
BEGIN:VEVENT
DTSTART;VALUE=DATE:20230218
DTEND;VALUE=DATE:20230228
DTSTAMP:20260422T044819
CREATED:20230427T221341Z
LAST-MODIFIED:20230427T221341Z
UID:50572-1676678400-1677542399@eubcboxing.org
SUMMARY:74th International Boxing Tournament STRANDJA
DESCRIPTION:Total-Results Daily-Results-20-26th-Feb Daily-Schedule-20-26th-Feb Competition-schedule-Strandja-2023 Draw-Sheets-Women-1 Draw-Sheets-Men-1 TRAVEL_DETAILS_FORM_STRANDJA-2023 Final-form-STRANDJA-2023- Preliminary-form-STRANDJA-2023 Boxing2023-Strandja-Memorial-Tournament-Invitation
URL:https://eubcboxing.org/event/74th-international-boxing-tournament-strandja-2/
LOCATION:Sofia\, Bulgaria\, Sofia\, Bulgaria
CATEGORIES:International Tournaments
END:VEVENT
BEGIN:VEVENT
DTSTART;VALUE=DATE:20230221
DTEND;VALUE=DATE:20230301
DTSTAMP:20260422T044819
CREATED:20230427T221106Z
LAST-MODIFIED:20230427T221106Z
UID:50562-1676937600-1677628799@eubcboxing.org
SUMMARY:Dracula Open – 2023
DESCRIPTION:MEDALIST-BY-WEIGHT-CATEGORY (1) DAILY-SCHEDULE C08.CP_1 C08.CP_ Draw-Sheets (2) DRACULA-OPEN-2023-Invitation-ok DRACULA-Open-Preliminary-Entry-Form DRACULA-Open-Final-Entry-Form
URL:https://eubcboxing.org/event/dracula-open-2023-2/
LOCATION:: Polivalenta Hall\, Romania
CATEGORIES:International Tournaments
END:VEVENT
END:VCALENDAR